BEGIN:VCALENDAR
VERSION:2.0
PRODID:-//Break Rock Brewing - ECPv6.15.20//NONSGML v1.0//EN
CALSCALE:GREGORIAN
METHOD:PUBLISH
X-WR-CALNAME:Break Rock Brewing
X-ORIGINAL-URL:https://breakrockbrewing.com
X-WR-CALDESC:Events for Break Rock Brewing
REFRESH-INTERVAL;VALUE=DURATION:PT1H
X-Robots-Tag:noindex
X-PUBLISHED-TTL:PT1H
BEGIN:VTIMEZONE
TZID:America/New_York
BEGIN:DAYLIGHT
TZOFFSETFROM:-0500
TZOFFSETTO:-0400
TZNAME:EDT
DTSTART:20250309T070000
END:DAYLIGHT
BEGIN:STANDARD
TZOFFSETFROM:-0400
TZOFFSETTO:-0500
TZNAME:EST
DTSTART:20251102T060000
END:STANDARD
BEGIN:DAYLIGHT
TZOFFSETFROM:-0500
TZOFFSETTO:-0400
TZNAME:EDT
DTSTART:20260308T070000
END:DAYLIGHT
BEGIN:STANDARD
TZOFFSETFROM:-0400
TZOFFSETTO:-0500
TZNAME:EST
DTSTART:20261101T060000
END:STANDARD
BEGIN:DAYLIGHT
TZOFFSETFROM:-0500
TZOFFSETTO:-0400
TZNAME:EDT
DTSTART:20270314T070000
END:DAYLIGHT
BEGIN:STANDARD
TZOFFSETFROM:-0400
TZOFFSETTO:-0500
TZNAME:EST
DTSTART:20271107T060000
END:STANDARD
END:VTIMEZONE
BEGIN:VEVENT
DTSTART;TZID=America/New_York:20260521T180000
DTEND;TZID=America/New_York:20260521T200000
DTSTAMP:20260422T214128
CREATED:20250918T134527Z
LAST-MODIFIED:20260324T142011Z
UID:10005062-1779386400-1779393600@breakrockbrewing.com
SUMMARY:WORKSHOP: RESIN WAVE BOARDS
DESCRIPTION:Join us at Break Rock Brewing for a hands-on Resin Wakeboard Workshop\, where you’ll create your own ocean-inspired board to take home. \nDuring this guided experience\, you’ll learn how to mix and tint resin\, layer colors\, and design a seascape-style piece that’s completely your own. Grab a beverage from the bar\, settle in\, and make a night of it while you create. \nWhat to expect:• Step-by-step instruction on mixing\, tinting\, and pouring resin• A variety of board shapes and sizes to choose from• A wide selection of colors to create your custom design• A finished piece to take home (boxed for transport; cures in ~24 hours)• Food-safe resin (hand wash recommended) \nAccessible to all skill levels\, especially beginners. Due to limited space\, one participant per board. Guests under 21 are welcome with an accompanying adult. \n			\n				REGISTER HERE!
URL:https://breakrockbrewing.com/event/workshop-resin-wave-cutting-boards/2026-05-21/
LOCATION:Break Rock Brewing\, 534 Victory Road\, Quincy\, MA\, 02171\, United States
CATEGORIES:Class / Workshop
ATTACH;FMTTYPE=image/jpeg:https://breakrockbrewing.com/wp-content/uploads/sites/21/2025/12/Facebook-Events-31.jpg
END:VEVENT
BEGIN:VEVENT
DTSTART;TZID=America/New_York:20260618T180000
DTEND;TZID=America/New_York:20260618T200000
DTSTAMP:20260422T214128
CREATED:20250918T134527Z
LAST-MODIFIED:20260324T142011Z
UID:10005170-1781805600-1781812800@breakrockbrewing.com
SUMMARY:WORKSHOP: RESIN WAVE BOARDS
DESCRIPTION:Join us at Break Rock Brewing for a hands-on Resin Wakeboard Workshop\, where you’ll create your own ocean-inspired board to take home. \nDuring this guided experience\, you’ll learn how to mix and tint resin\, layer colors\, and design a seascape-style piece that’s completely your own. Grab a beverage from the bar\, settle in\, and make a night of it while you create. \nWhat to expect:• Step-by-step instruction on mixing\, tinting\, and pouring resin• A variety of board shapes and sizes to choose from• A wide selection of colors to create your custom design• A finished piece to take home (boxed for transport; cures in ~24 hours)• Food-safe resin (hand wash recommended) \nAccessible to all skill levels\, especially beginners. Due to limited space\, one participant per board. Guests under 21 are welcome with an accompanying adult. \n			\n				REGISTER HERE!
URL:https://breakrockbrewing.com/event/workshop-resin-wave-cutting-boards/2026-06-18/
LOCATION:Break Rock Brewing\, 534 Victory Road\, Quincy\, MA\, 02171\, United States
CATEGORIES:Class / Workshop
ATTACH;FMTTYPE=image/jpeg:https://breakrockbrewing.com/wp-content/uploads/sites/21/2025/12/Facebook-Events-31.jpg
END:VEVENT
END:VCALENDAR