BEGIN:VCALENDAR
VERSION:2.0
PRODID:-//Break Rock Brewing - ECPv6.15.20//NONSGML v1.0//EN
CALSCALE:GREGORIAN
METHOD:PUBLISH
X-ORIGINAL-URL:https://breakrockbrewing.com
X-WR-CALDESC:Events for Break Rock Brewing
REFRESH-INTERVAL;VALUE=DURATION:PT1H
X-Robots-Tag:noindex
X-PUBLISHED-TTL:PT1H
BEGIN:VTIMEZONE
TZID:America/New_York
BEGIN:DAYLIGHT
TZOFFSETFROM:-0500
TZOFFSETTO:-0400
TZNAME:EDT
DTSTART:20230312T070000
END:DAYLIGHT
BEGIN:STANDARD
TZOFFSETFROM:-0400
TZOFFSETTO:-0500
TZNAME:EST
DTSTART:20231105T060000
END:STANDARD
BEGIN:DAYLIGHT
TZOFFSETFROM:-0500
TZOFFSETTO:-0400
TZNAME:EDT
DTSTART:20240310T070000
END:DAYLIGHT
BEGIN:STANDARD
TZOFFSETFROM:-0400
TZOFFSETTO:-0500
TZNAME:EST
DTSTART:20241103T060000
END:STANDARD
BEGIN:DAYLIGHT
TZOFFSETFROM:-0500
TZOFFSETTO:-0400
TZNAME:EDT
DTSTART:20250309T070000
END:DAYLIGHT
BEGIN:STANDARD
TZOFFSETFROM:-0400
TZOFFSETTO:-0500
TZNAME:EST
DTSTART:20251102T060000
END:STANDARD
END:VTIMEZONE
BEGIN:VEVENT
DTSTART;TZID=America/New_York:20241115T150000
DTEND;TZID=America/New_York:20241115T180000
DTSTAMP:20260424T071457
CREATED:20231227T040724Z
LAST-MODIFIED:20260406T152533Z
UID:10003997-1731682800-1731693600@breakrockbrewing.com
SUMMARY:Live Music: Mack Duo
DESCRIPTION:
URL:https://breakrockbrewing.com/event/live-music-mack-duo/2024-11-15/
LOCATION:Break Rock Brewing\, 534 Victory Road\, Quincy\, MA\, 02171\, United States
CATEGORIES:Live Music
ATTACH;FMTTYPE=image/jpeg:https://breakrockbrewing.com/wp-content/uploads/sites/21/2025/10/Website-13.jpg
END:VEVENT
BEGIN:VEVENT
DTSTART;TZID=America/New_York:20241115T140000
DTEND;TZID=America/New_York:20241115T213000
DTSTAMP:20260424T071457
CREATED:20240102T201649Z
LAST-MODIFIED:20260120T190211Z
UID:10004177-1731679200-1731706200@breakrockbrewing.com
SUMMARY:SMALL BATCH THURSDAY
DESCRIPTION:Thursday is when we drop our new or special releases on draft in the taproom only. Check out of social media to see what is new this week!
URL:https://breakrockbrewing.com/event/small-batch-thursday/2024-11-15/
LOCATION:Break Rock Brewing\, 534 Victory Road\, Quincy\, MA\, 02171\, United States
CATEGORIES:Events
ATTACH;FMTTYPE=image/jpeg:https://breakrockbrewing.com/wp-content/uploads/sites/21/2026/01/Website-Templates-20.jpg
END:VEVENT
BEGIN:VEVENT
DTSTART;TZID=America/New_York:20241113T190000
DTEND;TZID=America/New_York:20241113T200000
DTSTAMP:20260424T071457
CREATED:20231128T173228Z
LAST-MODIFIED:20250212T173021Z
UID:10002506-1731524400-1731528000@breakrockbrewing.com
SUMMARY:Free Team Trivia: Rounds 7pm & 8pm
DESCRIPTION:Join us for FREE Sporcle Trivia Night\, every Wednesday. New rounds/games at 7pm & 8pm. Grab a few friends\, and a beer\, test your knowledge – and win gift cards for a future taproom visit! \nTrivia is typical “General Knowledge”. However\, we do have some themed nights planned. See below! \nTHEMED TRIVIA\n\n10/2 – The Simpsons\n11/6 – Friends\n12/4 –  1980s-2010s Pop Culture
URL:https://breakrockbrewing.com/event/free-trivia-every-wednesday/2024-11-13/
LOCATION:Break Rock Brewing\, 534 Victory Road\, Quincy\, MA\, 02171\, United States
CATEGORIES:Events
ATTACH;FMTTYPE=image/jpeg:https://breakrockbrewing.com/wp-content/uploads/sites/21/2025/01/Website-3.jpg
END:VEVENT
BEGIN:VEVENT
DTSTART;TZID=America/New_York:20241110T130000
DTEND;TZID=America/New_York:20241110T170000
DTSTAMP:20260424T071457
CREATED:20240103T044211Z
LAST-MODIFIED:20260217T184027Z
UID:10002432-1731243600-1731258000@breakrockbrewing.com
SUMMARY:Food Pop-Up: Hott Smoke BBQ
DESCRIPTION:Quincy’s Hott Smoke BBQ will be in the house slinging their grub and keeping you fed!
URL:https://breakrockbrewing.com/event/hott-smoke-bbq-pop-up/2024-11-10/
LOCATION:Break Rock Brewing\, 534 Victory Road\, Quincy\, MA\, 02171\, United States
CATEGORIES:Food Pop Up
ATTACH;FMTTYPE=image/jpeg:https://breakrockbrewing.com/wp-content/uploads/sites/21/2025/01/WERE-HIRING-23.jpg
END:VEVENT
BEGIN:VEVENT
DTSTART;TZID=America/New_York:20241110T110000
DTEND;TZID=America/New_York:20241110T120000
DTSTAMP:20260424T071457
CREATED:20241023T140302Z
LAST-MODIFIED:20241023T140305Z
UID:10002790-1731236400-1731240000@breakrockbrewing.com
SUMMARY:FITNESS: MUSCLE UP TO THE "BARRE"
DESCRIPTION:Join us for a workout at Break Rock Brewery on November 10th at 10:45am. This 45 minute workout class will be led by Proving Ground Studio and Jenn Maturo from Pulse Studio. Strength\, barre\, sweat and sip! You don’t want to miss out!\n			\n				REGISTER HERE
URL:https://breakrockbrewing.com/event/fitness-muscle-up-to-the-barre/
LOCATION:Break Rock Brewing\, 534 Victory Road\, Quincy\, MA\, 02171\, United States
CATEGORIES:Class / Workshop
ATTACH;FMTTYPE=image/jpeg:https://breakrockbrewing.com/wp-content/uploads/sites/21/2024/10/Muscle-up-to-the-Barre.jpg
END:VEVENT
BEGIN:VEVENT
DTSTART;TZID=America/New_York:20241108T183000
DTEND;TZID=America/New_York:20241108T213000
DTSTAMP:20260424T071457
CREATED:20241007T154938Z
LAST-MODIFIED:20241007T154938Z
UID:10002781-1731090600-1731101400@breakrockbrewing.com
SUMMARY:LIVE MUSIC: Mitch Leaman
DESCRIPTION:
URL:https://breakrockbrewing.com/event/live-music-mitch-leaman/
LOCATION:Break Rock Brewing\, 534 Victory Road\, Quincy\, MA\, 02171\, United States
CATEGORIES:Live Music
ATTACH;FMTTYPE=image/jpeg:https://breakrockbrewing.com/wp-content/uploads/sites/21/2024/10/IMG_0050.jpg
END:VEVENT
BEGIN:VEVENT
DTSTART;TZID=America/New_York:20241108T140000
DTEND;TZID=America/New_York:20241108T213000
DTSTAMP:20260424T071457
CREATED:20240102T201649Z
LAST-MODIFIED:20260120T190211Z
UID:10004176-1731074400-1731101400@breakrockbrewing.com
SUMMARY:SMALL BATCH THURSDAY
DESCRIPTION:Thursday is when we drop our new or special releases on draft in the taproom only. Check out of social media to see what is new this week!
URL:https://breakrockbrewing.com/event/small-batch-thursday/2024-11-08/
LOCATION:Break Rock Brewing\, 534 Victory Road\, Quincy\, MA\, 02171\, United States
CATEGORIES:Events
ATTACH;FMTTYPE=image/jpeg:https://breakrockbrewing.com/wp-content/uploads/sites/21/2026/01/Website-Templates-20.jpg
END:VEVENT
BEGIN:VEVENT
DTSTART;TZID=America/New_York:20241106T190000
DTEND;TZID=America/New_York:20241106T210000
DTSTAMP:20260424T071457
CREATED:20241007T151854Z
LAST-MODIFIED:20241007T151854Z
UID:10002773-1730919600-1730926800@breakrockbrewing.com
SUMMARY:FREE TRIVIA: FRIENDS THEME
DESCRIPTION:
URL:https://breakrockbrewing.com/event/free-trivia-friends-theme/
LOCATION:Break Rock Brewing\, 534 Victory Road\, Quincy\, MA\, 02171\, United States
CATEGORIES:Events
ATTACH;FMTTYPE=image/jpeg:https://breakrockbrewing.com/wp-content/uploads/sites/21/2024/10/Flyers-2.jpg
END:VEVENT
BEGIN:VEVENT
DTSTART;TZID=America/New_York:20241106T160000
DTEND;TZID=America/New_York:20241106T210000
DTSTAMP:20260424T071457
CREATED:20241104T182559Z
LAST-MODIFIED:20241106T182946Z
UID:10002795-1730908800-1730926800@breakrockbrewing.com
SUMMARY:MONTH OF NOVEMBER FOOD DRIVE!
DESCRIPTION:Join us this November at Break Rock Brewing in Germantown\, Quincy\, for a community food drive to support families in need this Thanksgiving season! \nWhen: All month long in November\nWhere: Break Rock Brewing\, Germantown\, Quincy \nHelp us make a difference by donating non-perishable food items. For every bag of non-perishables you bring\, you will receive one raffle ticket for a chance to win exciting prizes! \nMost Needed Items: \nCanned Goods: Vegetables (corn\, green beans)\, fruits\, soups\, and canned meats (tuna\, chicken)\nThanksgiving Essentials: Gravy\, stuffing mix\, cranberry sauce\, and pumpkin puree\nNon-Perishable Staples: Rice\, pasta\, dried beans\, flour\, and sugar\nBaking Supplies: Baking mixes (cake\, brownie)\, chocolate chips\, and spices (cinnamon\, nutmeg)\nBreakfast Items: Oatmeal\, cereal\, and pancake mix with syrup\nSnacks and Treats: Nut butters and granola bars\nYour generous contributions will help us provide for local families during the holiday season. Let’s come together as a community to spread kindness and support those in need! \nFor more information\, feel free to contact us or stop by the brewery. Thank you for your support! \nTogether\, we can make a difference this Thanksgiving!\n			\n				RAFFLE ENTRY
URL:https://breakrockbrewing.com/event/month-of-november-food-drive/
LOCATION:Break Rock Brewing\, 534 Victory Road\, Quincy\, MA\, 02171\, United States
CATEGORIES:Events
END:VEVENT
BEGIN:VEVENT
DTSTART;TZID=America/New_York:20241102T183000
DTEND;TZID=America/New_York:20241102T213000
DTSTAMP:20260424T071457
CREATED:20241007T154733Z
LAST-MODIFIED:20241007T154733Z
UID:10002780-1730572200-1730583000@breakrockbrewing.com
SUMMARY:LIVE MUSIC: Bluegrass Night with Kate Cook
DESCRIPTION:
URL:https://breakrockbrewing.com/event/live-music-bluegrass-night-with-kate-cook/
LOCATION:Break Rock Brewing\, 534 Victory Road\, Quincy\, MA\, 02171\, United States
CATEGORIES:Live Music
ATTACH;FMTTYPE=image/jpeg:https://breakrockbrewing.com/wp-content/uploads/sites/21/2024/10/IMG_0049.jpg
END:VEVENT
BEGIN:VEVENT
DTSTART;TZID=America/New_York:20241101T140000
DTEND;TZID=America/New_York:20241101T213000
DTSTAMP:20260424T071457
CREATED:20240102T201649Z
LAST-MODIFIED:20260120T190211Z
UID:10004175-1730469600-1730496600@breakrockbrewing.com
SUMMARY:SMALL BATCH THURSDAY
DESCRIPTION:Thursday is when we drop our new or special releases on draft in the taproom only. Check out of social media to see what is new this week!
URL:https://breakrockbrewing.com/event/small-batch-thursday/2024-11-01/
LOCATION:Break Rock Brewing\, 534 Victory Road\, Quincy\, MA\, 02171\, United States
CATEGORIES:Events
ATTACH;FMTTYPE=image/jpeg:https://breakrockbrewing.com/wp-content/uploads/sites/21/2026/01/Website-Templates-20.jpg
END:VEVENT
BEGIN:VEVENT
DTSTART;TZID=America/New_York:20241031T183000
DTEND;TZID=America/New_York:20241031T213000
DTSTAMP:20260424T071457
CREATED:20241001T161726Z
LAST-MODIFIED:20241031T175317Z
UID:10002765-1730399400-1730410200@breakrockbrewing.com
SUMMARY:SOLD OUT NO TICKETS AVAILABLE! THIRD ANNUAL HOWL-O-WEEN DOG COSTUME PARTY
DESCRIPTION:THIS EVENT IS SOLD OUT! NO TICKETS REMAIN FOR PEOPLE OR PUPS! \nREMINDERS:-EVENT IS TICKETED ONLY. NO WALK UPS WILL BE ADMITTED-THIS EVENT IS 21+-IF YOU HAVE A TICKET FOR YOURSELF\, BUT DID NOT BUY A DOG TICKET FOR YOUR DOG\, THE DOG WILL NOT BE PERMITTED INSIDE – SORRY! \n  \nJoin us for a spooktacular evening at Break Rock Brewing Co.’s 3rd Annual Howl-O-Ween Dog Costume Party on Thursday\, October 31st\, from 6:30 pm to 9:30 pm! Ticket sales to benefit the Quincy Animal Shelter. \nBring your furry friend for a fun-filled night featuring vendors\, spooky beverages\, and a costume contest where pups and their paw-rents can showcase their creative costumes. Prizes to be awarded for best-dressed pups and parents! You don’t have to have a dog to dress up! \nRegister you and your pup today! Don’t miss your chance to win exciting prizes for you and your pup! Prepare for a howling good time—let’s make this Halloween unforgettable! \nTICKETS ARE REQUIRED. Both guests and pups are capped for this event – get your tickets now! \nTHE DETAILS: \nThis event is fully ticketed and 21+ event. A ticket is required to enter the taproom & all ticket sales proceeds go to Quincy Animal Shelter. \nGuests can also purchase tickets at the door. But\, participating pups MUST be pre-registered. You cannot register your dog at the door. \nIf dogs are not: 1) pre-registered to participate and 2) are not in costume – they will not be allowed in the building during the event. Sorry! \nParticipating pups must be on site by 8 pm to be eligible for judging. \nAll dogs must be leashed at all times and out of service corridors. \nPRE REG: $15 per person\, $5 per dog. AT THE DOOR: $20 per person\, dogs are not permitted to register at the door. As noted above\, only pre-registered dogs participating in the costume contest will be allowed in the brewery during the event. No exceptions. No refunds will be permitted for the event. \nSCHEDULE OF EVENTS: \n6:30 pm – guests and pups arrive. Check-in is required at the door. Plan accordingly. Your hand will be stamped at the door for admittance. \n6:30 pm – 9:00 pm – Guests can mix\, mingle\, enjoy drinks\, snap some photos with pups\, or interact with vendors on site including Quincy Animal Shelter\, VEG – Veterinary Emergency Group\, 2 Dog Treats\, The Half Cookie – bringing treats for pups and humans alike! \n9:15 pm – 1st\, 2nd\, and 3rd place prizes will be awarded to dogs and guests separately. Must be present to win/collect the prize.
URL:https://breakrockbrewing.com/event/third-annual-howl-o-ween-dog-costume-party/
LOCATION:Break Rock Brewing\, 534 Victory Road\, Quincy\, MA\, 02171\, United States
CATEGORIES:Events
ATTACH;FMTTYPE=image/jpeg:https://breakrockbrewing.com/wp-content/uploads/sites/21/2024/10/Howl-O-Ween-1.jpg
END:VEVENT
BEGIN:VEVENT
DTSTART;TZID=America/New_York:20241030T190000
DTEND;TZID=America/New_York:20241030T200000
DTSTAMP:20260424T071457
CREATED:20231128T173228Z
LAST-MODIFIED:20250212T173021Z
UID:10002504-1730314800-1730318400@breakrockbrewing.com
SUMMARY:Free Team Trivia: Rounds 7pm & 8pm
DESCRIPTION:Join us for FREE Sporcle Trivia Night\, every Wednesday. New rounds/games at 7pm & 8pm. Grab a few friends\, and a beer\, test your knowledge – and win gift cards for a future taproom visit! \nTrivia is typical “General Knowledge”. However\, we do have some themed nights planned. See below! \nTHEMED TRIVIA\n\n10/2 – The Simpsons\n11/6 – Friends\n12/4 –  1980s-2010s Pop Culture
URL:https://breakrockbrewing.com/event/free-trivia-every-wednesday/2024-10-30/
LOCATION:Break Rock Brewing\, 534 Victory Road\, Quincy\, MA\, 02171\, United States
CATEGORIES:Events
ATTACH;FMTTYPE=image/jpeg:https://breakrockbrewing.com/wp-content/uploads/sites/21/2025/01/Website-3.jpg
END:VEVENT
BEGIN:VEVENT
DTSTART;TZID=America/New_York:20241027T130000
DTEND;TZID=America/New_York:20241027T170000
DTSTAMP:20260424T071457
CREATED:20240103T044211Z
LAST-MODIFIED:20260217T184027Z
UID:10002431-1730034000-1730048400@breakrockbrewing.com
SUMMARY:Food Pop-Up: Hott Smoke BBQ
DESCRIPTION:Quincy’s Hott Smoke BBQ will be in the house slinging their grub and keeping you fed!
URL:https://breakrockbrewing.com/event/hott-smoke-bbq-pop-up/2024-10-27/
LOCATION:Break Rock Brewing\, 534 Victory Road\, Quincy\, MA\, 02171\, United States
CATEGORIES:Food Pop Up
ATTACH;FMTTYPE=image/jpeg:https://breakrockbrewing.com/wp-content/uploads/sites/21/2025/01/WERE-HIRING-23.jpg
END:VEVENT
BEGIN:VEVENT
DTSTART;TZID=America/New_York:20241025T183000
DTEND;TZID=America/New_York:20241025T213000
DTSTAMP:20260424T071457
CREATED:20231121T203807Z
LAST-MODIFIED:20260227T204620Z
UID:10002791-1729881000-1729891800@breakrockbrewing.com
SUMMARY:Live Music: Saltwater Sons
DESCRIPTION:
URL:https://breakrockbrewing.com/event/saltwater-sons/2024-10-25/
LOCATION:Break Rock Brewing\, 534 Victory Road\, Quincy\, MA\, 02171\, United States
CATEGORIES:Live Music
ATTACH;FMTTYPE=image/jpeg:https://breakrockbrewing.com/wp-content/uploads/sites/21/2025/01/WERE-HIRING-10.jpg
END:VEVENT
BEGIN:VEVENT
DTSTART;TZID=America/New_York:20241025T140000
DTEND;TZID=America/New_York:20241025T213000
DTSTAMP:20260424T071457
CREATED:20240102T201649Z
LAST-MODIFIED:20260120T190211Z
UID:10004174-1729864800-1729891800@breakrockbrewing.com
SUMMARY:SMALL BATCH THURSDAY
DESCRIPTION:Thursday is when we drop our new or special releases on draft in the taproom only. Check out of social media to see what is new this week!
URL:https://breakrockbrewing.com/event/small-batch-thursday/2024-10-25/
LOCATION:Break Rock Brewing\, 534 Victory Road\, Quincy\, MA\, 02171\, United States
CATEGORIES:Events
ATTACH;FMTTYPE=image/jpeg:https://breakrockbrewing.com/wp-content/uploads/sites/21/2026/01/Website-Templates-20.jpg
END:VEVENT
BEGIN:VEVENT
DTSTART;TZID=America/New_York:20241024T180000
DTEND;TZID=America/New_York:20241024T210000
DTSTAMP:20260424T071457
CREATED:20240823T200154Z
LAST-MODIFIED:20240826T161616Z
UID:10002426-1729792800-1729803600@breakrockbrewing.com
SUMMARY:COMMUNITY CORNERSTONE: Lost Coin Women's Fundraiser + Music Bingo
DESCRIPTION:Join us at Break Rock Brewing Co. on October 24 from 6-9 pm for the Lost Coin Women’s Fundraising Event! Enjoy an exciting round of Music Bingo\, where you can test your music knowledge and win fantastic prizes\, all set against our picturesque marina backdrop. For just $15 before and $20 at the door\, you’ll have access to our wide selection of craft brews\, delicious bites\, and a night of fun\, all while supporting low-income women achieve their educational goals. Your participation helps raise vital funds for the Lost Coin Women’s organization\, making a meaningful impact in our community. Don’t miss out on this vibrant evening of entertainment\, connection\, and contribution!
URL:https://breakrockbrewing.com/event/community-cornerstone-lost-coin-womens-fundraiser-music-bingo/
LOCATION:Break Rock Brewing\, 534 Victory Road\, Quincy\, MA\, 02171\, United States
CATEGORIES:Events
ATTACH;FMTTYPE=image/jpeg:https://breakrockbrewing.com/wp-content/uploads/sites/21/2024/08/Flyers-6-1.jpg
END:VEVENT
BEGIN:VEVENT
DTSTART;TZID=America/New_York:20241023T190000
DTEND;TZID=America/New_York:20241023T200000
DTSTAMP:20260424T071457
CREATED:20231128T173228Z
LAST-MODIFIED:20250212T173021Z
UID:10002503-1729710000-1729713600@breakrockbrewing.com
SUMMARY:Free Team Trivia: Rounds 7pm & 8pm
DESCRIPTION:Join us for FREE Sporcle Trivia Night\, every Wednesday. New rounds/games at 7pm & 8pm. Grab a few friends\, and a beer\, test your knowledge – and win gift cards for a future taproom visit! \nTrivia is typical “General Knowledge”. However\, we do have some themed nights planned. See below! \nTHEMED TRIVIA\n\n10/2 – The Simpsons\n11/6 – Friends\n12/4 –  1980s-2010s Pop Culture
URL:https://breakrockbrewing.com/event/free-trivia-every-wednesday/2024-10-23/
LOCATION:Break Rock Brewing\, 534 Victory Road\, Quincy\, MA\, 02171\, United States
CATEGORIES:Events
ATTACH;FMTTYPE=image/jpeg:https://breakrockbrewing.com/wp-content/uploads/sites/21/2025/01/Website-3.jpg
END:VEVENT
BEGIN:VEVENT
DTSTART;TZID=America/New_York:20241020T120000
DTEND;TZID=America/New_York:20241020T160000
DTSTAMP:20260424T071457
CREATED:20241018T161208Z
LAST-MODIFIED:20241018T161208Z
UID:10002785-1729425600-1729440000@breakrockbrewing.com
SUMMARY:LIVE MUSIC: DJ ORMAND
DESCRIPTION:
URL:https://breakrockbrewing.com/event/live-music-dj-ormand/
LOCATION:Break Rock Brewing\, 534 Victory Road\, Quincy\, MA\, 02171\, United States
CATEGORIES:Live Music
ATTACH;FMTTYPE=image/jpeg:https://breakrockbrewing.com/wp-content/uploads/sites/21/2024/10/image.jpg
END:VEVENT
BEGIN:VEVENT
DTSTART;TZID=America/New_York:20241018T140000
DTEND;TZID=America/New_York:20241018T213000
DTSTAMP:20260424T071457
CREATED:20240102T201649Z
LAST-MODIFIED:20260120T190211Z
UID:10004173-1729260000-1729287000@breakrockbrewing.com
SUMMARY:SMALL BATCH THURSDAY
DESCRIPTION:Thursday is when we drop our new or special releases on draft in the taproom only. Check out of social media to see what is new this week!
URL:https://breakrockbrewing.com/event/small-batch-thursday/2024-10-18/
LOCATION:Break Rock Brewing\, 534 Victory Road\, Quincy\, MA\, 02171\, United States
CATEGORIES:Events
ATTACH;FMTTYPE=image/jpeg:https://breakrockbrewing.com/wp-content/uploads/sites/21/2026/01/Website-Templates-20.jpg
END:VEVENT
BEGIN:VEVENT
DTSTART;TZID=America/New_York:20241013T130000
DTEND;TZID=America/New_York:20241013T170000
DTSTAMP:20260424T071458
CREATED:20241007T154422Z
LAST-MODIFIED:20241007T154422Z
UID:10002779-1728824400-1728838800@breakrockbrewing.com
SUMMARY:FOOD POP-UP: DISFRUTAR TAPAS
DESCRIPTION:Bringing back the flavors and the style of Spanish Tapas to the Northeast!
URL:https://breakrockbrewing.com/event/food-pop-up-disfrutar-tapas/
LOCATION:Break Rock Brewing\, 534 Victory Road\, Quincy\, MA\, 02171\, United States
CATEGORIES:Food Pop Up
ATTACH;FMTTYPE=image/jpeg:https://breakrockbrewing.com/wp-content/uploads/sites/21/2024/10/IMG_0048.jpg
END:VEVENT
BEGIN:VEVENT
DTSTART;TZID=America/New_York:20241012T130000
DTEND;TZID=America/New_York:20241012T180000
DTSTAMP:20260424T071458
CREATED:20240103T044211Z
LAST-MODIFIED:20260217T184027Z
UID:10001251-1728738000-1728756000@breakrockbrewing.com
SUMMARY:Food Pop-Up: Hott Smoke BBQ
DESCRIPTION:Quincy’s Hott Smoke BBQ will be in the house slinging their grub and keeping you fed!
URL:https://breakrockbrewing.com/event/hott-smoke-bbq-pop-up/2024-10-12/
LOCATION:Break Rock Brewing\, 534 Victory Road\, Quincy\, MA\, 02171\, United States
CATEGORIES:Food Pop Up
ATTACH;FMTTYPE=image/jpeg:https://breakrockbrewing.com/wp-content/uploads/sites/21/2025/01/WERE-HIRING-23.jpg
END:VEVENT
BEGIN:VEVENT
DTSTART;TZID=America/New_York:20241011T183000
DTEND;TZID=America/New_York:20241011T213000
DTSTAMP:20260424T071458
CREATED:20241007T152629Z
LAST-MODIFIED:20241007T152629Z
UID:10002778-1728671400-1728682200@breakrockbrewing.com
SUMMARY:LIVE MUSIC: MACK SPELLMAN
DESCRIPTION:
URL:https://breakrockbrewing.com/event/live-music-mack-spellman/
LOCATION:Break Rock Brewing\, 534 Victory Road\, Quincy\, MA\, 02171\, United States
CATEGORIES:Live Music
ATTACH;FMTTYPE=image/jpeg:https://breakrockbrewing.com/wp-content/uploads/sites/21/2024/10/IMG_0047.jpg
END:VEVENT
BEGIN:VEVENT
DTSTART;TZID=America/New_York:20241011T140000
DTEND;TZID=America/New_York:20241011T213000
DTSTAMP:20260424T071458
CREATED:20240102T201649Z
LAST-MODIFIED:20260120T190211Z
UID:10004172-1728655200-1728682200@breakrockbrewing.com
SUMMARY:SMALL BATCH THURSDAY
DESCRIPTION:Thursday is when we drop our new or special releases on draft in the taproom only. Check out of social media to see what is new this week!
URL:https://breakrockbrewing.com/event/small-batch-thursday/2024-10-11/
LOCATION:Break Rock Brewing\, 534 Victory Road\, Quincy\, MA\, 02171\, United States
CATEGORIES:Events
ATTACH;FMTTYPE=image/jpeg:https://breakrockbrewing.com/wp-content/uploads/sites/21/2026/01/Website-Templates-20.jpg
END:VEVENT
BEGIN:VEVENT
DTSTART;TZID=America/New_York:20241010T180000
DTEND;TZID=America/New_York:20241010T210000
DTSTAMP:20260424T071458
CREATED:20241010T190317Z
LAST-MODIFIED:20260318T162049Z
UID:10002430-1728583200-1728594000@breakrockbrewing.com
SUMMARY:Black's Creek BBQ
DESCRIPTION:Black’s Creek will be on site with their delicious bbq offerings! \nBlack’s Creek BBQ was established in 2022 but has been in the works for a lifetime. Lorenzo grew up celebrating holidays\, family gatherings and BBQing on the smoker with friends and family. Lorenzo was asked to help out last year when a food truck had canceled at a local event in Quincy and the rest is history in the making. After that event\, and after securing all permits\, licensing\, and insurance Lorenzo began setting up at Black’s Creek in Quincy.  \nFrom there the demand has grown and you can find Lorenzo and his wife\, Jaclyn set up at different locations in Quincy and local food truck events. Check out our website for information on ordering catering online for all of your upcoming events and functions! Also\, follow us on Facebook and Instagram to see where we will be popping up next.
URL:https://breakrockbrewing.com/event/blacks-creek-bbq-3-3/2024-10-10/
LOCATION:Break Rock Brewing\, 534 Victory Road\, Quincy\, MA\, 02171\, United States
CATEGORIES:Food Pop Up
ATTACH;FMTTYPE=image/jpeg:https://breakrockbrewing.com/wp-content/uploads/sites/21/2025/01/WERE-HIRING-24.jpg
END:VEVENT
BEGIN:VEVENT
DTSTART;TZID=America/New_York:20241009T180000
DTEND;TZID=America/New_York:20241009T210000
DTSTAMP:20260424T071458
CREATED:20241007T152335Z
LAST-MODIFIED:20241007T152335Z
UID:10002777-1728496800-1728507600@breakrockbrewing.com
SUMMARY:LIVE MUSIC: DJ DRUNKY x SANDWICH BOY TAKEOVER
DESCRIPTION:
URL:https://breakrockbrewing.com/event/live-music-dj-drunky-x-sandwich-boy-takeover/
LOCATION:Break Rock Brewing\, 534 Victory Road\, Quincy\, MA\, 02171\, United States
ATTACH;FMTTYPE=image/jpeg:https://breakrockbrewing.com/wp-content/uploads/sites/21/2024/10/IMG_9898-2.jpg
END:VEVENT
BEGIN:VEVENT
DTSTART;TZID=America/New_York:20241009T180000
DTEND;TZID=America/New_York:20241009T210000
DTSTAMP:20260424T071458
CREATED:20241003T183336Z
LAST-MODIFIED:20241003T183336Z
UID:10002771-1728496800-1728507600@breakrockbrewing.com
SUMMARY:SANDWICH BOY CO. BODEGA BEER RELEASE PARTY
DESCRIPTION:Join us at Break Rock Brewing Co. on Wednesday\, October 9th\, as we come together to celebrate local small businesses with the launch of Sandwich Boy Co.’s latest brew! From 6:00 to 9:00 PM\, enjoy mouthwatering food from Marsay at Sandwich Boy Co.\, perfectly paired with our refreshing new beer. \nWhile you savor the flavors\, let DJ Drunky set the vibe with live music that will keep you dancing all night. This is a fantastic opportunity to support and celebrate the local community\, so bring your friends and raise a glass to small business love! \nLet’s make this a night to remember—cheers to great food\, craft beer\, and the spirit of our local scene! 🍻
URL:https://breakrockbrewing.com/event/sandwich-boy-co-bodega-beer-release-party/
LOCATION:Break Rock Brewing\, 534 Victory Road\, Quincy\, MA\, 02171\, United States
CATEGORIES:Events
ATTACH;FMTTYPE=image/jpeg:https://breakrockbrewing.com/wp-content/uploads/sites/21/2024/10/IMG_9899.jpg
END:VEVENT
BEGIN:VEVENT
DTSTART;TZID=America/New_York:20241004T183000
DTEND;TZID=America/New_York:20241004T213000
DTSTAMP:20260424T071458
CREATED:20240624T154158Z
LAST-MODIFIED:20240805T183153Z
UID:10002388-1728066600-1728077400@breakrockbrewing.com
SUMMARY:ZACK BOLLES BAND
DESCRIPTION:
URL:https://breakrockbrewing.com/event/zack-bolles-band/2024-10-04/
LOCATION:Break Rock Brewing\, 534 Victory Road\, Quincy\, MA\, 02171\, United States
CATEGORIES:Live Music
ATTACH;FMTTYPE=image/jpeg:https://breakrockbrewing.com/wp-content/uploads/sites/21/2024/06/BRB-2.jpg
END:VEVENT
BEGIN:VEVENT
DTSTART;TZID=America/New_York:20241004T140000
DTEND;TZID=America/New_York:20241004T213000
DTSTAMP:20260424T071458
CREATED:20240102T201649Z
LAST-MODIFIED:20260120T190211Z
UID:10004171-1728050400-1728077400@breakrockbrewing.com
SUMMARY:SMALL BATCH THURSDAY
DESCRIPTION:Thursday is when we drop our new or special releases on draft in the taproom only. Check out of social media to see what is new this week!
URL:https://breakrockbrewing.com/event/small-batch-thursday/2024-10-04/
LOCATION:Break Rock Brewing\, 534 Victory Road\, Quincy\, MA\, 02171\, United States
CATEGORIES:Events
ATTACH;FMTTYPE=image/jpeg:https://breakrockbrewing.com/wp-content/uploads/sites/21/2026/01/Website-Templates-20.jpg
END:VEVENT
BEGIN:VEVENT
DTSTART;TZID=America/New_York:20241002T190000
DTEND;TZID=America/New_York:20241002T200000
DTSTAMP:20260424T071458
CREATED:20231128T173228Z
LAST-MODIFIED:20250212T173021Z
UID:10002761-1727895600-1727899200@breakrockbrewing.com
SUMMARY:Free Team Trivia: Rounds 7pm & 8pm
DESCRIPTION:Join us for FREE Sporcle Trivia Night\, every Wednesday. New rounds/games at 7pm & 8pm. Grab a few friends\, and a beer\, test your knowledge – and win gift cards for a future taproom visit! \nTrivia is typical “General Knowledge”. However\, we do have some themed nights planned. See below! \nTHEMED TRIVIA\n\n10/2 – The Simpsons\n11/6 – Friends\n12/4 –  1980s-2010s Pop Culture
URL:https://breakrockbrewing.com/event/free-trivia-every-wednesday/2024-10-02/
LOCATION:Break Rock Brewing\, 534 Victory Road\, Quincy\, MA\, 02171\, United States
CATEGORIES:Events
ATTACH;FMTTYPE=image/jpeg:https://breakrockbrewing.com/wp-content/uploads/sites/21/2025/01/Website-3.jpg
END:VEVENT
END:VCALENDAR