BEGIN:VCALENDAR
VERSION:2.0
PRODID:-//Break Rock Brewing - ECPv6.15.20//NONSGML v1.0//EN
CALSCALE:GREGORIAN
METHOD:PUBLISH
X-ORIGINAL-URL:https://breakrockbrewing.com
X-WR-CALDESC:Events for Break Rock Brewing
REFRESH-INTERVAL;VALUE=DURATION:PT1H
X-Robots-Tag:noindex
X-PUBLISHED-TTL:PT1H
BEGIN:VTIMEZONE
TZID:America/New_York
BEGIN:DAYLIGHT
TZOFFSETFROM:-0500
TZOFFSETTO:-0400
TZNAME:EDT
DTSTART:20230312T070000
END:DAYLIGHT
BEGIN:STANDARD
TZOFFSETFROM:-0400
TZOFFSETTO:-0500
TZNAME:EST
DTSTART:20231105T060000
END:STANDARD
BEGIN:DAYLIGHT
TZOFFSETFROM:-0500
TZOFFSETTO:-0400
TZNAME:EDT
DTSTART:20240310T070000
END:DAYLIGHT
BEGIN:STANDARD
TZOFFSETFROM:-0400
TZOFFSETTO:-0500
TZNAME:EST
DTSTART:20241103T060000
END:STANDARD
BEGIN:DAYLIGHT
TZOFFSETFROM:-0500
TZOFFSETTO:-0400
TZNAME:EDT
DTSTART:20250309T070000
END:DAYLIGHT
BEGIN:STANDARD
TZOFFSETFROM:-0400
TZOFFSETTO:-0500
TZNAME:EST
DTSTART:20251102T060000
END:STANDARD
END:VTIMEZONE
BEGIN:VEVENT
DTSTART;TZID=America/New_York:20240927T180000
DTEND;TZID=America/New_York:20240927T210000
DTSTAMP:20260424T121344
CREATED:20240305T040550Z
LAST-MODIFIED:20240916T203056Z
UID:10001942-1727460000-1727470800@breakrockbrewing.com
SUMMARY:Community Cornerstone Fundraiser: Quincy Youth Hockey
DESCRIPTION:FUNDRAISING PARTNER FOR THURS SEPTEMBER 27! \nA portion of sales from the evening will go toward Quincy Youth Hockey. QYH will also be on-site conducting raffles and auctions.\nLearn more about Break Rock Brewing\, our philanthropic efforts\, and the Community Cornerstones program here. \nBREAK ROCK BREWING IS DEDICATED TO BEING AN ENGAGED COMMUNITY PARTNER THROUGH OUR COMMUNITY CORNERSTONES PROGRAM. LET US HELP YOU\, HELP OTHERS! \nWHAT IS THE COMMUNITY CORNERSTONES PROGRAM?\nWe co-host fundraisers in our taproom. A portion of sales from beer and merchandise that night\, as well as night of fundraising (raffles\, silent auctions\, etc)\, go directly to the participating charity. We also waive our room rental fee/minimum for all participating eligible non-profits and provide you with the space for a maximum of five hours\, staff support\, access to on-site audio/visual equipment (televisions\, blue tooth microphone\, speakers\, etc)\, co-marketing leading up the event\, and more. Depending on the event size and date\, your event could be a portion of our taproom or the entire space. The outdoor patio may not be available depending on the date.
URL:https://breakrockbrewing.com/event/community-cornerstone-fundraiser-quincy-youth-hockey/
LOCATION:Break Rock Brewing\, 534 Victory Road\, Quincy\, MA\, 02171\, United States
CATEGORIES:Events
ATTACH;FMTTYPE=image/jpeg:https://breakrockbrewing.com/wp-content/uploads/sites/21/2024/09/Flyers.jpg
END:VEVENT
BEGIN:VEVENT
DTSTART;TZID=America/New_York:20240927T140000
DTEND;TZID=America/New_York:20240927T213000
DTSTAMP:20260424T121344
CREATED:20240102T201649Z
LAST-MODIFIED:20260120T190211Z
UID:10004170-1727445600-1727472600@breakrockbrewing.com
SUMMARY:SMALL BATCH THURSDAY
DESCRIPTION:Thursday is when we drop our new or special releases on draft in the taproom only. Check out of social media to see what is new this week!
URL:https://breakrockbrewing.com/event/small-batch-thursday/2024-09-27/
LOCATION:Break Rock Brewing\, 534 Victory Road\, Quincy\, MA\, 02171\, United States
CATEGORIES:Events
ATTACH;FMTTYPE=image/jpeg:https://breakrockbrewing.com/wp-content/uploads/sites/21/2026/01/Website-Templates-20.jpg
END:VEVENT
BEGIN:VEVENT
DTSTART;TZID=America/New_York:20240925T190000
DTEND;TZID=America/New_York:20240925T200000
DTSTAMP:20260424T121344
CREATED:20231128T173228Z
LAST-MODIFIED:20250212T173021Z
UID:10002500-1727290800-1727294400@breakrockbrewing.com
SUMMARY:Free Team Trivia: Rounds 7pm & 8pm
DESCRIPTION:Join us for FREE Sporcle Trivia Night\, every Wednesday. New rounds/games at 7pm & 8pm. Grab a few friends\, and a beer\, test your knowledge – and win gift cards for a future taproom visit! \nTrivia is typical “General Knowledge”. However\, we do have some themed nights planned. See below! \nTHEMED TRIVIA\n\n10/2 – The Simpsons\n11/6 – Friends\n12/4 –  1980s-2010s Pop Culture
URL:https://breakrockbrewing.com/event/free-trivia-every-wednesday/2024-09-25/
LOCATION:Break Rock Brewing\, 534 Victory Road\, Quincy\, MA\, 02171\, United States
CATEGORIES:Events
ATTACH;FMTTYPE=image/jpeg:https://breakrockbrewing.com/wp-content/uploads/sites/21/2025/01/Website-3.jpg
END:VEVENT
BEGIN:VEVENT
DTSTART;TZID=America/New_York:20240920T140000
DTEND;TZID=America/New_York:20240920T213000
DTSTAMP:20260424T121344
CREATED:20240102T201649Z
LAST-MODIFIED:20260120T190211Z
UID:10004169-1726840800-1726867800@breakrockbrewing.com
SUMMARY:SMALL BATCH THURSDAY
DESCRIPTION:Thursday is when we drop our new or special releases on draft in the taproom only. Check out of social media to see what is new this week!
URL:https://breakrockbrewing.com/event/small-batch-thursday/2024-09-20/
LOCATION:Break Rock Brewing\, 534 Victory Road\, Quincy\, MA\, 02171\, United States
CATEGORIES:Events
ATTACH;FMTTYPE=image/jpeg:https://breakrockbrewing.com/wp-content/uploads/sites/21/2026/01/Website-Templates-20.jpg
END:VEVENT
BEGIN:VEVENT
DTSTART;TZID=America/New_York:20240918T190000
DTEND;TZID=America/New_York:20240918T200000
DTSTAMP:20260424T121344
CREATED:20231128T173228Z
LAST-MODIFIED:20250212T173021Z
UID:10002499-1726686000-1726689600@breakrockbrewing.com
SUMMARY:Free Team Trivia: Rounds 7pm & 8pm
DESCRIPTION:Join us for FREE Sporcle Trivia Night\, every Wednesday. New rounds/games at 7pm & 8pm. Grab a few friends\, and a beer\, test your knowledge – and win gift cards for a future taproom visit! \nTrivia is typical “General Knowledge”. However\, we do have some themed nights planned. See below! \nTHEMED TRIVIA\n\n10/2 – The Simpsons\n11/6 – Friends\n12/4 –  1980s-2010s Pop Culture
URL:https://breakrockbrewing.com/event/free-trivia-every-wednesday/2024-09-18/
LOCATION:Break Rock Brewing\, 534 Victory Road\, Quincy\, MA\, 02171\, United States
CATEGORIES:Events
ATTACH;FMTTYPE=image/jpeg:https://breakrockbrewing.com/wp-content/uploads/sites/21/2025/01/Website-3.jpg
END:VEVENT
BEGIN:VEVENT
DTSTART;TZID=America/New_York:20240914T130000
DTEND;TZID=America/New_York:20240914T180000
DTSTAMP:20260424T121344
CREATED:20240103T044211Z
LAST-MODIFIED:20260217T184027Z
UID:10001250-1726318800-1726336800@breakrockbrewing.com
SUMMARY:Food Pop-Up: Hott Smoke BBQ
DESCRIPTION:Quincy’s Hott Smoke BBQ will be in the house slinging their grub and keeping you fed!
URL:https://breakrockbrewing.com/event/hott-smoke-bbq-pop-up/2024-09-14/
LOCATION:Break Rock Brewing\, 534 Victory Road\, Quincy\, MA\, 02171\, United States
CATEGORIES:Food Pop Up
ATTACH;FMTTYPE=image/jpeg:https://breakrockbrewing.com/wp-content/uploads/sites/21/2025/01/WERE-HIRING-23.jpg
END:VEVENT
BEGIN:VEVENT
DTSTART;TZID=America/New_York:20240913T140000
DTEND;TZID=America/New_York:20240913T213000
DTSTAMP:20260424T121344
CREATED:20240102T201649Z
LAST-MODIFIED:20260120T190211Z
UID:10004168-1726236000-1726263000@breakrockbrewing.com
SUMMARY:SMALL BATCH THURSDAY
DESCRIPTION:Thursday is when we drop our new or special releases on draft in the taproom only. Check out of social media to see what is new this week!
URL:https://breakrockbrewing.com/event/small-batch-thursday/2024-09-13/
LOCATION:Break Rock Brewing\, 534 Victory Road\, Quincy\, MA\, 02171\, United States
CATEGORIES:Events
ATTACH;FMTTYPE=image/jpeg:https://breakrockbrewing.com/wp-content/uploads/sites/21/2026/01/Website-Templates-20.jpg
END:VEVENT
BEGIN:VEVENT
DTSTART;TZID=America/New_York:20240911T190000
DTEND;TZID=America/New_York:20240911T200000
DTSTAMP:20260424T121344
CREATED:20231128T173228Z
LAST-MODIFIED:20250212T173021Z
UID:10002498-1726081200-1726084800@breakrockbrewing.com
SUMMARY:Free Team Trivia: Rounds 7pm & 8pm
DESCRIPTION:Join us for FREE Sporcle Trivia Night\, every Wednesday. New rounds/games at 7pm & 8pm. Grab a few friends\, and a beer\, test your knowledge – and win gift cards for a future taproom visit! \nTrivia is typical “General Knowledge”. However\, we do have some themed nights planned. See below! \nTHEMED TRIVIA\n\n10/2 – The Simpsons\n11/6 – Friends\n12/4 –  1980s-2010s Pop Culture
URL:https://breakrockbrewing.com/event/free-trivia-every-wednesday/2024-09-11/
LOCATION:Break Rock Brewing\, 534 Victory Road\, Quincy\, MA\, 02171\, United States
CATEGORIES:Events
ATTACH;FMTTYPE=image/jpeg:https://breakrockbrewing.com/wp-content/uploads/sites/21/2025/01/Website-3.jpg
END:VEVENT
BEGIN:VEVENT
DTSTART;TZID=America/New_York:20240908T143000
DTEND;TZID=America/New_York:20240908T173000
DTSTAMP:20260424T121344
CREATED:20240805T160635Z
LAST-MODIFIED:20240805T160635Z
UID:10002372-1725805800-1725816600@breakrockbrewing.com
SUMMARY:LIVE MUSIC: James Keegan Blood
DESCRIPTION:
URL:https://breakrockbrewing.com/event/live-music-james-keegan-blood/
CATEGORIES:Live Music
ATTACH;FMTTYPE=image/jpeg:https://breakrockbrewing.com/wp-content/uploads/sites/21/2024/08/BRB.jpg
END:VEVENT
BEGIN:VEVENT
DTSTART;TZID=America/New_York:20240907T140000
DTEND;TZID=America/New_York:20240907T190000
DTSTAMP:20260424T121344
CREATED:20231227T025819Z
LAST-MODIFIED:20260319T124412Z
UID:10002371-1725717600-1725735600@breakrockbrewing.com
SUMMARY:Live Music: John DeBellis
DESCRIPTION:
URL:https://breakrockbrewing.com/event/live-music-john-debellis/2024-09-07/
LOCATION:Break Rock Brewing\, 534 Victory Road\, Quincy\, MA\, 02171\, United States
CATEGORIES:Live Music
ATTACH;FMTTYPE=image/jpeg:https://breakrockbrewing.com/wp-content/uploads/sites/21/2025/01/Website-20.jpg
END:VEVENT
BEGIN:VEVENT
DTSTART;TZID=America/New_York:20240906T140000
DTEND;TZID=America/New_York:20240906T213000
DTSTAMP:20260424T121344
CREATED:20240102T201649Z
LAST-MODIFIED:20260120T190211Z
UID:10004167-1725631200-1725658200@breakrockbrewing.com
SUMMARY:SMALL BATCH THURSDAY
DESCRIPTION:Thursday is when we drop our new or special releases on draft in the taproom only. Check out of social media to see what is new this week!
URL:https://breakrockbrewing.com/event/small-batch-thursday/2024-09-06/
LOCATION:Break Rock Brewing\, 534 Victory Road\, Quincy\, MA\, 02171\, United States
CATEGORIES:Events
ATTACH;FMTTYPE=image/jpeg:https://breakrockbrewing.com/wp-content/uploads/sites/21/2026/01/Website-Templates-20.jpg
END:VEVENT
BEGIN:VEVENT
DTSTART;TZID=America/New_York:20240904T190000
DTEND;TZID=America/New_York:20240904T200000
DTSTAMP:20260424T121344
CREATED:20231128T173228Z
LAST-MODIFIED:20250212T173021Z
UID:10002497-1725476400-1725480000@breakrockbrewing.com
SUMMARY:Free Team Trivia: Rounds 7pm & 8pm
DESCRIPTION:Join us for FREE Sporcle Trivia Night\, every Wednesday. New rounds/games at 7pm & 8pm. Grab a few friends\, and a beer\, test your knowledge – and win gift cards for a future taproom visit! \nTrivia is typical “General Knowledge”. However\, we do have some themed nights planned. See below! \nTHEMED TRIVIA\n\n10/2 – The Simpsons\n11/6 – Friends\n12/4 –  1980s-2010s Pop Culture
URL:https://breakrockbrewing.com/event/free-trivia-every-wednesday/2024-09-04/
LOCATION:Break Rock Brewing\, 534 Victory Road\, Quincy\, MA\, 02171\, United States
CATEGORIES:Events
ATTACH;FMTTYPE=image/jpeg:https://breakrockbrewing.com/wp-content/uploads/sites/21/2025/01/Website-3.jpg
END:VEVENT
BEGIN:VEVENT
DTSTART;TZID=America/New_York:20240830T140000
DTEND;TZID=America/New_York:20240830T213000
DTSTAMP:20260424T121344
CREATED:20240102T201649Z
LAST-MODIFIED:20260120T190211Z
UID:10004166-1725026400-1725053400@breakrockbrewing.com
SUMMARY:SMALL BATCH THURSDAY
DESCRIPTION:Thursday is when we drop our new or special releases on draft in the taproom only. Check out of social media to see what is new this week!
URL:https://breakrockbrewing.com/event/small-batch-thursday/2024-08-30/
LOCATION:Break Rock Brewing\, 534 Victory Road\, Quincy\, MA\, 02171\, United States
CATEGORIES:Events
ATTACH;FMTTYPE=image/jpeg:https://breakrockbrewing.com/wp-content/uploads/sites/21/2026/01/Website-Templates-20.jpg
END:VEVENT
BEGIN:VEVENT
DTSTART;TZID=America/New_York:20240828T190000
DTEND;TZID=America/New_York:20240828T200000
DTSTAMP:20260424T121344
CREATED:20231128T173228Z
LAST-MODIFIED:20250212T173021Z
UID:10002496-1724871600-1724875200@breakrockbrewing.com
SUMMARY:Free Team Trivia: Rounds 7pm & 8pm
DESCRIPTION:Join us for FREE Sporcle Trivia Night\, every Wednesday. New rounds/games at 7pm & 8pm. Grab a few friends\, and a beer\, test your knowledge – and win gift cards for a future taproom visit! \nTrivia is typical “General Knowledge”. However\, we do have some themed nights planned. See below! \nTHEMED TRIVIA\n\n10/2 – The Simpsons\n11/6 – Friends\n12/4 –  1980s-2010s Pop Culture
URL:https://breakrockbrewing.com/event/free-trivia-every-wednesday/2024-08-28/
LOCATION:Break Rock Brewing\, 534 Victory Road\, Quincy\, MA\, 02171\, United States
CATEGORIES:Events
ATTACH;FMTTYPE=image/jpeg:https://breakrockbrewing.com/wp-content/uploads/sites/21/2025/01/Website-3.jpg
END:VEVENT
BEGIN:VEVENT
DTSTART;TZID=America/New_York:20240823T140000
DTEND;TZID=America/New_York:20240823T213000
DTSTAMP:20260424T121344
CREATED:20240102T201649Z
LAST-MODIFIED:20260120T190211Z
UID:10004165-1724421600-1724448600@breakrockbrewing.com
SUMMARY:SMALL BATCH THURSDAY
DESCRIPTION:Thursday is when we drop our new or special releases on draft in the taproom only. Check out of social media to see what is new this week!
URL:https://breakrockbrewing.com/event/small-batch-thursday/2024-08-23/
LOCATION:Break Rock Brewing\, 534 Victory Road\, Quincy\, MA\, 02171\, United States
CATEGORIES:Events
ATTACH;FMTTYPE=image/jpeg:https://breakrockbrewing.com/wp-content/uploads/sites/21/2026/01/Website-Templates-20.jpg
END:VEVENT
BEGIN:VEVENT
DTSTART;TZID=America/New_York:20240822T170000
DTEND;TZID=America/New_York:20240822T210000
DTSTAMP:20260424T121344
CREATED:20240625T190540Z
LAST-MODIFIED:20240809T180043Z
UID:10002356-1724346000-1724360400@breakrockbrewing.com
SUMMARY:GIRLS NIGHT OUT AT BRB CO.
DESCRIPTION:Join us at Break Rock Brewing Co. for an unforgettable Girls Night Out where brewery girls unite for a night of fun and brews! Enjoy an exclusive pop-up by Spark by Simone\, showcasing her exquisite collection of permanent jewelry in 14k gold\, 14k gold plated\, and silver. Find a unique piece that perfectly complements your style and make an appointment through the link below or walk in anytime. To add an extra layer of excitement\, we’re thrilled to host tarot and psychic medium card readings by the lovely Alexandria Saar. Bring your girlfriends\, mingle\, and make new friends while savoring our vibrant brewery atmosphere. Don’t miss out on this fantastic evening! While you shop and mingle\, indulge in our refreshing frose\, brews\, and seltzers served all night long. Gather your girlfriends and make your way to the boardwalk for an evening of drinks\, shopping\, and good times at Break Rock Brewing Co.!\n			\n			\n				\n				\n				\n				\n			\n				\n				\n				\n				\n				\n				\n				Book Permanent Jewelry\n			\n				Book Psychic Medium
URL:https://breakrockbrewing.com/event/girls-night-out-at-brb-co/
LOCATION:Break Rock Brewing\, 534 Victory Road\, Quincy\, MA\, 02171\, United States
CATEGORIES:Events
ATTACH;FMTTYPE=image/jpeg:https://breakrockbrewing.com/wp-content/uploads/sites/21/2024/08/Flyers-4.jpg
END:VEVENT
BEGIN:VEVENT
DTSTART;TZID=America/New_York:20240821T190000
DTEND;TZID=America/New_York:20240821T200000
DTSTAMP:20260424T121344
CREATED:20231128T173228Z
LAST-MODIFIED:20250212T173021Z
UID:10002495-1724266800-1724270400@breakrockbrewing.com
SUMMARY:Free Team Trivia: Rounds 7pm & 8pm
DESCRIPTION:Join us for FREE Sporcle Trivia Night\, every Wednesday. New rounds/games at 7pm & 8pm. Grab a few friends\, and a beer\, test your knowledge – and win gift cards for a future taproom visit! \nTrivia is typical “General Knowledge”. However\, we do have some themed nights planned. See below! \nTHEMED TRIVIA\n\n10/2 – The Simpsons\n11/6 – Friends\n12/4 –  1980s-2010s Pop Culture
URL:https://breakrockbrewing.com/event/free-trivia-every-wednesday/2024-08-21/
LOCATION:Break Rock Brewing\, 534 Victory Road\, Quincy\, MA\, 02171\, United States
CATEGORIES:Events
ATTACH;FMTTYPE=image/jpeg:https://breakrockbrewing.com/wp-content/uploads/sites/21/2025/01/Website-3.jpg
END:VEVENT
BEGIN:VEVENT
DTSTART;TZID=America/New_York:20240817T130000
DTEND;TZID=America/New_York:20240817T180000
DTSTAMP:20260424T121344
CREATED:20240103T051511Z
LAST-MODIFIED:20241018T152011Z
UID:10001968-1723899600-1723917600@breakrockbrewing.com
SUMMARY:Thiccy’s Taco Club
DESCRIPTION:Thiccy’s is always a hit in the taproom. Come grab some…you won’t be disappointed! \nhttps://www.instagram.com/thiccysclub/?hl=en
URL:https://breakrockbrewing.com/event/thiccys-taco-club/2024-08-17/
LOCATION:Break Rock Brewing\, 534 Victory Road\, Quincy\, MA\, 02171\, United States
CATEGORIES:Food Pop Up
ATTACH;FMTTYPE=image/jpeg:https://breakrockbrewing.com/wp-content/uploads/sites/21/2023/10/Thiccys.jpg
END:VEVENT
BEGIN:VEVENT
DTSTART;TZID=America/New_York:20240816T140000
DTEND;TZID=America/New_York:20240816T213000
DTSTAMP:20260424T121344
CREATED:20240102T201649Z
LAST-MODIFIED:20260120T190211Z
UID:10004164-1723816800-1723843800@breakrockbrewing.com
SUMMARY:SMALL BATCH THURSDAY
DESCRIPTION:Thursday is when we drop our new or special releases on draft in the taproom only. Check out of social media to see what is new this week!
URL:https://breakrockbrewing.com/event/small-batch-thursday/2024-08-16/
LOCATION:Break Rock Brewing\, 534 Victory Road\, Quincy\, MA\, 02171\, United States
CATEGORIES:Events
ATTACH;FMTTYPE=image/jpeg:https://breakrockbrewing.com/wp-content/uploads/sites/21/2026/01/Website-Templates-20.jpg
END:VEVENT
BEGIN:VEVENT
DTSTART;TZID=America/New_York:20240814T190000
DTEND;TZID=America/New_York:20240814T200000
DTSTAMP:20260424T121344
CREATED:20231128T173228Z
LAST-MODIFIED:20250212T173021Z
UID:10002494-1723662000-1723665600@breakrockbrewing.com
SUMMARY:Free Team Trivia: Rounds 7pm & 8pm
DESCRIPTION:Join us for FREE Sporcle Trivia Night\, every Wednesday. New rounds/games at 7pm & 8pm. Grab a few friends\, and a beer\, test your knowledge – and win gift cards for a future taproom visit! \nTrivia is typical “General Knowledge”. However\, we do have some themed nights planned. See below! \nTHEMED TRIVIA\n\n10/2 – The Simpsons\n11/6 – Friends\n12/4 –  1980s-2010s Pop Culture
URL:https://breakrockbrewing.com/event/free-trivia-every-wednesday/2024-08-14/
LOCATION:Break Rock Brewing\, 534 Victory Road\, Quincy\, MA\, 02171\, United States
CATEGORIES:Events
ATTACH;FMTTYPE=image/jpeg:https://breakrockbrewing.com/wp-content/uploads/sites/21/2025/01/Website-3.jpg
END:VEVENT
BEGIN:VEVENT
DTSTART;TZID=America/New_York:20240810T183000
DTEND;TZID=America/New_York:20240810T213000
DTSTAMP:20260424T121344
CREATED:20231218T022556Z
LAST-MODIFIED:20260319T121734Z
UID:10000890-1723314600-1723325400@breakrockbrewing.com
SUMMARY:Live Music: Jarrod Stein
DESCRIPTION:
URL:https://breakrockbrewing.com/event/live-music-jarrod-stein/2024-08-10/
LOCATION:Break Rock Brewing\, 534 Victory Road\, Quincy\, MA\, 02171\, United States
CATEGORIES:Live Music
ATTACH;FMTTYPE=image/jpeg:https://breakrockbrewing.com/wp-content/uploads/sites/21/2025/01/WERE-HIRING-12.jpg
END:VEVENT
BEGIN:VEVENT
DTSTART;TZID=America/New_York:20240809T140000
DTEND;TZID=America/New_York:20240809T213000
DTSTAMP:20260424T121344
CREATED:20240102T201649Z
LAST-MODIFIED:20260120T190211Z
UID:10004163-1723212000-1723239000@breakrockbrewing.com
SUMMARY:SMALL BATCH THURSDAY
DESCRIPTION:Thursday is when we drop our new or special releases on draft in the taproom only. Check out of social media to see what is new this week!
URL:https://breakrockbrewing.com/event/small-batch-thursday/2024-08-09/
LOCATION:Break Rock Brewing\, 534 Victory Road\, Quincy\, MA\, 02171\, United States
CATEGORIES:Events
ATTACH;FMTTYPE=image/jpeg:https://breakrockbrewing.com/wp-content/uploads/sites/21/2026/01/Website-Templates-20.jpg
END:VEVENT
BEGIN:VEVENT
DTSTART;TZID=America/New_York:20240807T190000
DTEND;TZID=America/New_York:20240807T200000
DTSTAMP:20260424T121344
CREATED:20231128T173228Z
LAST-MODIFIED:20250212T173021Z
UID:10002493-1723057200-1723060800@breakrockbrewing.com
SUMMARY:Free Team Trivia: Rounds 7pm & 8pm
DESCRIPTION:Join us for FREE Sporcle Trivia Night\, every Wednesday. New rounds/games at 7pm & 8pm. Grab a few friends\, and a beer\, test your knowledge – and win gift cards for a future taproom visit! \nTrivia is typical “General Knowledge”. However\, we do have some themed nights planned. See below! \nTHEMED TRIVIA\n\n10/2 – The Simpsons\n11/6 – Friends\n12/4 –  1980s-2010s Pop Culture
URL:https://breakrockbrewing.com/event/free-trivia-every-wednesday/2024-08-07/
LOCATION:Break Rock Brewing\, 534 Victory Road\, Quincy\, MA\, 02171\, United States
CATEGORIES:Events
ATTACH;FMTTYPE=image/jpeg:https://breakrockbrewing.com/wp-content/uploads/sites/21/2025/01/Website-3.jpg
END:VEVENT
BEGIN:VEVENT
DTSTART;TZID=America/New_York:20240804T130000
DTEND;TZID=America/New_York:20240804T160000
DTSTAMP:20260424T121344
CREATED:20231227T025819Z
LAST-MODIFIED:20260319T124412Z
UID:10002367-1722776400-1722787200@breakrockbrewing.com
SUMMARY:Live Music: John DeBellis
DESCRIPTION:
URL:https://breakrockbrewing.com/event/live-music-john-debellis/2024-08-04/
LOCATION:Break Rock Brewing\, 534 Victory Road\, Quincy\, MA\, 02171\, United States
CATEGORIES:Live Music
ATTACH;FMTTYPE=image/jpeg:https://breakrockbrewing.com/wp-content/uploads/sites/21/2025/01/Website-20.jpg
END:VEVENT
BEGIN:VEVENT
DTSTART;TZID=America/New_York:20240803T130000
DTEND;TZID=America/New_York:20240803T180000
DTSTAMP:20260424T121344
CREATED:20240103T051511Z
LAST-MODIFIED:20241018T152011Z
UID:10001967-1722690000-1722708000@breakrockbrewing.com
SUMMARY:Thiccy’s Taco Club
DESCRIPTION:Thiccy’s is always a hit in the taproom. Come grab some…you won’t be disappointed! \nhttps://www.instagram.com/thiccysclub/?hl=en
URL:https://breakrockbrewing.com/event/thiccys-taco-club/2024-08-03/
LOCATION:Break Rock Brewing\, 534 Victory Road\, Quincy\, MA\, 02171\, United States
CATEGORIES:Food Pop Up
ATTACH;FMTTYPE=image/jpeg:https://breakrockbrewing.com/wp-content/uploads/sites/21/2023/10/Thiccys.jpg
END:VEVENT
BEGIN:VEVENT
DTSTART;TZID=America/New_York:20240802T140000
DTEND;TZID=America/New_York:20240802T213000
DTSTAMP:20260424T121344
CREATED:20240102T201649Z
LAST-MODIFIED:20260120T190211Z
UID:10004162-1722607200-1722634200@breakrockbrewing.com
SUMMARY:SMALL BATCH THURSDAY
DESCRIPTION:Thursday is when we drop our new or special releases on draft in the taproom only. Check out of social media to see what is new this week!
URL:https://breakrockbrewing.com/event/small-batch-thursday/2024-08-02/
LOCATION:Break Rock Brewing\, 534 Victory Road\, Quincy\, MA\, 02171\, United States
CATEGORIES:Events
ATTACH;FMTTYPE=image/jpeg:https://breakrockbrewing.com/wp-content/uploads/sites/21/2026/01/Website-Templates-20.jpg
END:VEVENT
BEGIN:VEVENT
DTSTART;TZID=America/New_York:20240731T190000
DTEND;TZID=America/New_York:20240731T200000
DTSTAMP:20260424T121344
CREATED:20231128T173228Z
LAST-MODIFIED:20250212T173021Z
UID:10002492-1722452400-1722456000@breakrockbrewing.com
SUMMARY:Free Team Trivia: Rounds 7pm & 8pm
DESCRIPTION:Join us for FREE Sporcle Trivia Night\, every Wednesday. New rounds/games at 7pm & 8pm. Grab a few friends\, and a beer\, test your knowledge – and win gift cards for a future taproom visit! \nTrivia is typical “General Knowledge”. However\, we do have some themed nights planned. See below! \nTHEMED TRIVIA\n\n10/2 – The Simpsons\n11/6 – Friends\n12/4 –  1980s-2010s Pop Culture
URL:https://breakrockbrewing.com/event/free-trivia-every-wednesday/2024-07-31/
LOCATION:Break Rock Brewing\, 534 Victory Road\, Quincy\, MA\, 02171\, United States
CATEGORIES:Events
ATTACH;FMTTYPE=image/jpeg:https://breakrockbrewing.com/wp-content/uploads/sites/21/2025/01/Website-3.jpg
END:VEVENT
BEGIN:VEVENT
DTSTART;TZID=America/New_York:20240727T130000
DTEND;TZID=America/New_York:20240727T180000
DTSTAMP:20260424T121344
CREATED:20240103T051511Z
LAST-MODIFIED:20241018T152011Z
UID:10001966-1722085200-1722103200@breakrockbrewing.com
SUMMARY:Thiccy’s Taco Club
DESCRIPTION:Thiccy’s is always a hit in the taproom. Come grab some…you won’t be disappointed! \nhttps://www.instagram.com/thiccysclub/?hl=en
URL:https://breakrockbrewing.com/event/thiccys-taco-club/2024-07-27/
LOCATION:Break Rock Brewing\, 534 Victory Road\, Quincy\, MA\, 02171\, United States
CATEGORIES:Food Pop Up
ATTACH;FMTTYPE=image/jpeg:https://breakrockbrewing.com/wp-content/uploads/sites/21/2023/10/Thiccys.jpg
END:VEVENT
BEGIN:VEVENT
DTSTART;TZID=America/New_York:20240726T140000
DTEND;TZID=America/New_York:20240726T213000
DTSTAMP:20260424T121344
CREATED:20240102T201649Z
LAST-MODIFIED:20260120T190211Z
UID:10004161-1722002400-1722029400@breakrockbrewing.com
SUMMARY:SMALL BATCH THURSDAY
DESCRIPTION:Thursday is when we drop our new or special releases on draft in the taproom only. Check out of social media to see what is new this week!
URL:https://breakrockbrewing.com/event/small-batch-thursday/2024-07-26/
LOCATION:Break Rock Brewing\, 534 Victory Road\, Quincy\, MA\, 02171\, United States
CATEGORIES:Events
ATTACH;FMTTYPE=image/jpeg:https://breakrockbrewing.com/wp-content/uploads/sites/21/2026/01/Website-Templates-20.jpg
END:VEVENT
BEGIN:VEVENT
DTSTART;TZID=America/New_York:20240725T073000
DTEND;TZID=America/New_York:20240725T210000
DTSTAMP:20260424T121344
CREATED:20240717T160422Z
LAST-MODIFIED:20240717T160422Z
UID:10002357-1721892600-1721941200@breakrockbrewing.com
SUMMARY:SINGLES TABLE MINGLING EVENT
DESCRIPTION:Join us at Break Rock Brewing’s Taproom in Marina Bay on Thursday\, July 25th from 7:00 to 9:00 pm for our exciting Single Table Mingling Event! Whether you’re single or just love great beer\, this event is for you. Tickets are available for $20 via our website\, at the Taproom\, or as walk-ins on the day of the event. \nYour ticket includes entry to our exclusive Singles Table Beer Release\, where you can enjoy a complimentary beer or seltzer upon arrival. Don’t worry if you’re not single—this event is all about mingling with fellow beer enthusiasts and getting to know your neighbors in a relaxed atmosphere. \nAs a special bonus\, attendees who hit it off and learn 5 interesting facts about each other will be entered to win a free gift card! It’s a fantastic opportunity to connect with like-minded individuals and discover new things about the people in your community. \nDon’t miss out on this fun and social evening at Break Rock Brewing—grab your ticket today and join us for a memorable night of great beer and good company!
URL:https://breakrockbrewing.com/event/singles-table-mingling-event/
LOCATION:Break Rock Brewing\, 534 Victory Road\, Quincy\, MA\, 02171\, United States
CATEGORIES:Events
ATTACH;FMTTYPE=image/jpeg:https://breakrockbrewing.com/wp-content/uploads/sites/21/2024/07/450686799_18146611360324532_9034635636909333704_n.jpg
END:VEVENT
END:VCALENDAR