BEGIN:VCALENDAR
VERSION:2.0
PRODID:-//Break Rock Brewing - ECPv6.15.20//NONSGML v1.0//EN
CALSCALE:GREGORIAN
METHOD:PUBLISH
X-ORIGINAL-URL:https://breakrockbrewing.com
X-WR-CALDESC:Events for Break Rock Brewing
REFRESH-INTERVAL;VALUE=DURATION:PT1H
X-Robots-Tag:noindex
X-PUBLISHED-TTL:PT1H
BEGIN:VTIMEZONE
TZID:America/New_York
BEGIN:DAYLIGHT
TZOFFSETFROM:-0500
TZOFFSETTO:-0400
TZNAME:EDT
DTSTART:20230312T070000
END:DAYLIGHT
BEGIN:STANDARD
TZOFFSETFROM:-0400
TZOFFSETTO:-0500
TZNAME:EST
DTSTART:20231105T060000
END:STANDARD
BEGIN:DAYLIGHT
TZOFFSETFROM:-0500
TZOFFSETTO:-0400
TZNAME:EDT
DTSTART:20240310T070000
END:DAYLIGHT
BEGIN:STANDARD
TZOFFSETFROM:-0400
TZOFFSETTO:-0500
TZNAME:EST
DTSTART:20241103T060000
END:STANDARD
BEGIN:DAYLIGHT
TZOFFSETFROM:-0500
TZOFFSETTO:-0400
TZNAME:EDT
DTSTART:20250309T070000
END:DAYLIGHT
BEGIN:STANDARD
TZOFFSETFROM:-0400
TZOFFSETTO:-0500
TZNAME:EST
DTSTART:20251102T060000
END:STANDARD
END:VTIMEZONE
BEGIN:VEVENT
DTSTART;TZID=America/New_York:20240531T180000
DTEND;TZID=America/New_York:20240531T210000
DTSTAMP:20260424T230244
CREATED:20240520T025254Z
LAST-MODIFIED:20240520T025254Z
UID:10002014-1717178400-1717189200@breakrockbrewing.com
SUMMARY:QIE Montclair Party
DESCRIPTION:BEER + CHARITY + FOOD + LIVE MUSIC + RAFFLE PRIZES = FUN NIGHT AT BRB! \nSwing on down to Break Rock’s taproom to celebrate the Montclair neighborhood of Quincy and raise some money for the Patrick F. Tevenan Memorial Fund. We’ll have QIE Montclair\, our 5.6% pilsner on draft and in cans to go. We’ll also have Cam Cotham live from 630pm and a food pop-up – Delialle Express – from 6p-9p. There will also be some great raffle prizes! Open to the public. No door fee or ticket is needed. A portion of all sales from the evening to benefit the Tevenan Fund. \n \n \n️
URL:https://breakrockbrewing.com/event/qie-montclair-party/
LOCATION:Break Rock Brewing\, 534 Victory Road\, Quincy\, MA\, 02171\, United States
CATEGORIES:Events
ATTACH;FMTTYPE=image/jpeg:https://breakrockbrewing.com/wp-content/uploads/sites/21/2024/05/Screenshot-2024-05-19-at-104939 PM.jpeg
END:VEVENT
BEGIN:VEVENT
DTSTART;TZID=America/New_York:20240531T140000
DTEND;TZID=America/New_York:20240531T213000
DTSTAMP:20260424T230244
CREATED:20240102T201649Z
LAST-MODIFIED:20260120T190211Z
UID:10004153-1717164000-1717191000@breakrockbrewing.com
SUMMARY:SMALL BATCH THURSDAY
DESCRIPTION:Thursday is when we drop our new or special releases on draft in the taproom only. Check out of social media to see what is new this week!
URL:https://breakrockbrewing.com/event/small-batch-thursday/2024-05-31/
LOCATION:Break Rock Brewing\, 534 Victory Road\, Quincy\, MA\, 02171\, United States
CATEGORIES:Events
ATTACH;FMTTYPE=image/jpeg:https://breakrockbrewing.com/wp-content/uploads/sites/21/2026/01/Website-Templates-20.jpg
END:VEVENT
BEGIN:VEVENT
DTSTART;TZID=America/New_York:20240529T190000
DTEND;TZID=America/New_York:20240529T200000
DTSTAMP:20260424T230244
CREATED:20231128T173228Z
LAST-MODIFIED:20250212T173021Z
UID:10002483-1717009200-1717012800@breakrockbrewing.com
SUMMARY:Free Team Trivia: Rounds 7pm & 8pm
DESCRIPTION:Join us for FREE Sporcle Trivia Night\, every Wednesday. New rounds/games at 7pm & 8pm. Grab a few friends\, and a beer\, test your knowledge – and win gift cards for a future taproom visit! \nTrivia is typical “General Knowledge”. However\, we do have some themed nights planned. See below! \nTHEMED TRIVIA\n\n10/2 – The Simpsons\n11/6 – Friends\n12/4 –  1980s-2010s Pop Culture
URL:https://breakrockbrewing.com/event/free-trivia-every-wednesday/2024-05-29/
LOCATION:Break Rock Brewing\, 534 Victory Road\, Quincy\, MA\, 02171\, United States
CATEGORIES:Events
ATTACH;FMTTYPE=image/jpeg:https://breakrockbrewing.com/wp-content/uploads/sites/21/2025/01/Website-3.jpg
END:VEVENT
BEGIN:VEVENT
DTSTART;TZID=America/New_York:20240524T140000
DTEND;TZID=America/New_York:20240524T213000
DTSTAMP:20260424T230244
CREATED:20240102T201649Z
LAST-MODIFIED:20260120T190211Z
UID:10004152-1716559200-1716586200@breakrockbrewing.com
SUMMARY:SMALL BATCH THURSDAY
DESCRIPTION:Thursday is when we drop our new or special releases on draft in the taproom only. Check out of social media to see what is new this week!
URL:https://breakrockbrewing.com/event/small-batch-thursday/2024-05-24/
LOCATION:Break Rock Brewing\, 534 Victory Road\, Quincy\, MA\, 02171\, United States
CATEGORIES:Events
ATTACH;FMTTYPE=image/jpeg:https://breakrockbrewing.com/wp-content/uploads/sites/21/2026/01/Website-Templates-20.jpg
END:VEVENT
BEGIN:VEVENT
DTSTART;TZID=America/New_York:20240522T190000
DTEND;TZID=America/New_York:20240522T200000
DTSTAMP:20260424T230244
CREATED:20231128T173228Z
LAST-MODIFIED:20250212T173021Z
UID:10002482-1716404400-1716408000@breakrockbrewing.com
SUMMARY:Free Team Trivia: Rounds 7pm & 8pm
DESCRIPTION:Join us for FREE Sporcle Trivia Night\, every Wednesday. New rounds/games at 7pm & 8pm. Grab a few friends\, and a beer\, test your knowledge – and win gift cards for a future taproom visit! \nTrivia is typical “General Knowledge”. However\, we do have some themed nights planned. See below! \nTHEMED TRIVIA\n\n10/2 – The Simpsons\n11/6 – Friends\n12/4 –  1980s-2010s Pop Culture
URL:https://breakrockbrewing.com/event/free-trivia-every-wednesday/2024-05-22/
LOCATION:Break Rock Brewing\, 534 Victory Road\, Quincy\, MA\, 02171\, United States
CATEGORIES:Events
ATTACH;FMTTYPE=image/jpeg:https://breakrockbrewing.com/wp-content/uploads/sites/21/2025/01/Website-3.jpg
END:VEVENT
BEGIN:VEVENT
DTSTART;TZID=America/New_York:20240517T140000
DTEND;TZID=America/New_York:20240517T213000
DTSTAMP:20260424T230244
CREATED:20240102T201649Z
LAST-MODIFIED:20260120T190211Z
UID:10004151-1715954400-1715981400@breakrockbrewing.com
SUMMARY:SMALL BATCH THURSDAY
DESCRIPTION:Thursday is when we drop our new or special releases on draft in the taproom only. Check out of social media to see what is new this week!
URL:https://breakrockbrewing.com/event/small-batch-thursday/2024-05-17/
LOCATION:Break Rock Brewing\, 534 Victory Road\, Quincy\, MA\, 02171\, United States
CATEGORIES:Events
ATTACH;FMTTYPE=image/jpeg:https://breakrockbrewing.com/wp-content/uploads/sites/21/2026/01/Website-Templates-20.jpg
END:VEVENT
BEGIN:VEVENT
DTSTART;TZID=America/New_York:20240515T190000
DTEND;TZID=America/New_York:20240515T200000
DTSTAMP:20260424T230244
CREATED:20231128T173228Z
LAST-MODIFIED:20250212T173021Z
UID:10002481-1715799600-1715803200@breakrockbrewing.com
SUMMARY:Free Team Trivia: Rounds 7pm & 8pm
DESCRIPTION:Join us for FREE Sporcle Trivia Night\, every Wednesday. New rounds/games at 7pm & 8pm. Grab a few friends\, and a beer\, test your knowledge – and win gift cards for a future taproom visit! \nTrivia is typical “General Knowledge”. However\, we do have some themed nights planned. See below! \nTHEMED TRIVIA\n\n10/2 – The Simpsons\n11/6 – Friends\n12/4 –  1980s-2010s Pop Culture
URL:https://breakrockbrewing.com/event/free-trivia-every-wednesday/2024-05-15/
LOCATION:Break Rock Brewing\, 534 Victory Road\, Quincy\, MA\, 02171\, United States
CATEGORIES:Events
ATTACH;FMTTYPE=image/jpeg:https://breakrockbrewing.com/wp-content/uploads/sites/21/2025/01/Website-3.jpg
END:VEVENT
BEGIN:VEVENT
DTSTART;TZID=America/New_York:20240512T143000
DTEND;TZID=America/New_York:20240512T160000
DTSTAMP:20260424T230244
CREATED:20240417T145133Z
LAST-MODIFIED:20240417T145133Z
UID:10001979-1715524200-1715529600@breakrockbrewing.com
SUMMARY:Mother’s Day Modern Calligraphy Class
DESCRIPTION:Bring Mom down for a fun class while enjoying your pick of beer\, wine\, seltzer\, cider\, mocktails\, and more!\nCLICK HERE FOR TICKETS! \nJoin Sip & ScriptⓇ for Modern Calligraphy Fun! \nJoin us at Break Rock Brewing in Quincy\, MA for pretty lettering! Whether you’re a stationery nerd\, DIY Bride-to-be\, or just a crafty individual\, you’ll be introduced to modern calligraphy with a pointed dip pen and ink in this workshop. We will cover all the basics and prepare you to add those unique lettered details to your snail mail\, wedding paper goods\, home decor\, and more! The perfect crafty Mother’s Day out! \nClass includes 1.5 hours of instruction and demonstration\, our beginner’s calligraphy kit (two nibs\, black ink pot\, 2 letter guides\, tracing paper\, and straight pen holder)\, and all materials to write on. Everything is yours to keep at the end of the workshop! \nCheck out their website and say hey on Instagram to learn more about the Venue. \nGet your tickets below! \nFeel free to come early\, grab your seat\, and purchase any drinks (beer\, cocktails\, and seltzer are available to purchase throughout the class\, too!). Class will start promptly at 2:30pm!  \nClass Expectations: Yes\, lefties are welcome too! This class is encouraged for someone who has never taken a calligraphy class before. We teach the basics\, and our expectation for you is to have ink flowing through your nib with enough confidence to be able to practice way beyond class. We love using tracing paper with our guides to help you build muscle memory and develop your own style!  If you have tried calligraphy out before\, this class will be a great refresher and hopefully a chance to try some new supplies from our beginner kit that will re-introduce you to this lovely form of art! \nA note on bringing guests 16 and under: We love to share this passion with kids. You are welcome to get a ticket for your child if you are comfortable with people around them having a drink or two. We ask that a ticketed adult accompany anyone under the age of 16 at all times. \nTo see our cancellation/refund policy\, please click here.
URL:https://breakrockbrewing.com/event/mothers-day-modern-calligraphy-class/
LOCATION:Break Rock Brewing\, 534 Victory Road\, Quincy\, MA\, 02171\, United States
CATEGORIES:Class / Workshop,Events
ATTACH;FMTTYPE=image/png:https://breakrockbrewing.com/wp-content/uploads/sites/21/2024/04/Mothers-Day-Calligraphy-Class.png
END:VEVENT
BEGIN:VEVENT
DTSTART;TZID=America/New_York:20240510T180000
DTEND;TZID=America/New_York:20240510T210000
DTSTAMP:20260424T230244
CREATED:20231227T035924Z
LAST-MODIFIED:20250131T152424Z
UID:10000947-1715364000-1715374800@breakrockbrewing.com
SUMMARY:Live Music - Tokyo Tramps
DESCRIPTION:
URL:https://breakrockbrewing.com/event/tokyo-tramps-3/2024-05-10/
CATEGORIES:Live Music
ATTACH;FMTTYPE=image/jpeg:https://breakrockbrewing.com/wp-content/uploads/sites/21/2025/01/WERE-HIRING-7.jpg
END:VEVENT
BEGIN:VEVENT
DTSTART;TZID=America/New_York:20240510T140000
DTEND;TZID=America/New_York:20240510T213000
DTSTAMP:20260424T230244
CREATED:20240102T201649Z
LAST-MODIFIED:20260120T190211Z
UID:10004150-1715349600-1715376600@breakrockbrewing.com
SUMMARY:SMALL BATCH THURSDAY
DESCRIPTION:Thursday is when we drop our new or special releases on draft in the taproom only. Check out of social media to see what is new this week!
URL:https://breakrockbrewing.com/event/small-batch-thursday/2024-05-10/
LOCATION:Break Rock Brewing\, 534 Victory Road\, Quincy\, MA\, 02171\, United States
CATEGORIES:Events
ATTACH;FMTTYPE=image/jpeg:https://breakrockbrewing.com/wp-content/uploads/sites/21/2026/01/Website-Templates-20.jpg
END:VEVENT
BEGIN:VEVENT
DTSTART;TZID=America/New_York:20240508T190000
DTEND;TZID=America/New_York:20240508T200000
DTSTAMP:20260424T230244
CREATED:20231128T173228Z
LAST-MODIFIED:20250212T173021Z
UID:10002480-1715194800-1715198400@breakrockbrewing.com
SUMMARY:Free Team Trivia: Rounds 7pm & 8pm
DESCRIPTION:Join us for FREE Sporcle Trivia Night\, every Wednesday. New rounds/games at 7pm & 8pm. Grab a few friends\, and a beer\, test your knowledge – and win gift cards for a future taproom visit! \nTrivia is typical “General Knowledge”. However\, we do have some themed nights planned. See below! \nTHEMED TRIVIA\n\n10/2 – The Simpsons\n11/6 – Friends\n12/4 –  1980s-2010s Pop Culture
URL:https://breakrockbrewing.com/event/free-trivia-every-wednesday/2024-05-08/
LOCATION:Break Rock Brewing\, 534 Victory Road\, Quincy\, MA\, 02171\, United States
CATEGORIES:Events
ATTACH;FMTTYPE=image/jpeg:https://breakrockbrewing.com/wp-content/uploads/sites/21/2025/01/Website-3.jpg
END:VEVENT
BEGIN:VEVENT
DTSTART;TZID=America/New_York:20240505T130000
DTEND;TZID=America/New_York:20240505T180000
DTSTAMP:20260424T230244
CREATED:20240103T051511Z
LAST-MODIFIED:20241018T152011Z
UID:10001289-1714914000-1714932000@breakrockbrewing.com
SUMMARY:Thiccy’s Taco Club
DESCRIPTION:Thiccy’s is always a hit in the taproom. Come grab some…you won’t be disappointed! \nhttps://www.instagram.com/thiccysclub/?hl=en
URL:https://breakrockbrewing.com/event/thiccys-taco-club/2024-05-05/
LOCATION:Break Rock Brewing\, 534 Victory Road\, Quincy\, MA\, 02171\, United States
CATEGORIES:Food Pop Up
ATTACH;FMTTYPE=image/jpeg:https://breakrockbrewing.com/wp-content/uploads/sites/21/2023/10/Thiccys.jpg
END:VEVENT
BEGIN:VEVENT
DTSTART;TZID=America/New_York:20240503T140000
DTEND;TZID=America/New_York:20240503T213000
DTSTAMP:20260424T230244
CREATED:20240102T201649Z
LAST-MODIFIED:20260120T190211Z
UID:10004149-1714744800-1714771800@breakrockbrewing.com
SUMMARY:SMALL BATCH THURSDAY
DESCRIPTION:Thursday is when we drop our new or special releases on draft in the taproom only. Check out of social media to see what is new this week!
URL:https://breakrockbrewing.com/event/small-batch-thursday/2024-05-03/
LOCATION:Break Rock Brewing\, 534 Victory Road\, Quincy\, MA\, 02171\, United States
CATEGORIES:Events
ATTACH;FMTTYPE=image/jpeg:https://breakrockbrewing.com/wp-content/uploads/sites/21/2026/01/Website-Templates-20.jpg
END:VEVENT
BEGIN:VEVENT
DTSTART;TZID=America/New_York:20240501T190000
DTEND;TZID=America/New_York:20240501T200000
DTSTAMP:20260424T230244
CREATED:20231128T173228Z
LAST-MODIFIED:20250212T173021Z
UID:10002479-1714590000-1714593600@breakrockbrewing.com
SUMMARY:Free Team Trivia: Rounds 7pm & 8pm
DESCRIPTION:Join us for FREE Sporcle Trivia Night\, every Wednesday. New rounds/games at 7pm & 8pm. Grab a few friends\, and a beer\, test your knowledge – and win gift cards for a future taproom visit! \nTrivia is typical “General Knowledge”. However\, we do have some themed nights planned. See below! \nTHEMED TRIVIA\n\n10/2 – The Simpsons\n11/6 – Friends\n12/4 –  1980s-2010s Pop Culture
URL:https://breakrockbrewing.com/event/free-trivia-every-wednesday/2024-05-01/
LOCATION:Break Rock Brewing\, 534 Victory Road\, Quincy\, MA\, 02171\, United States
CATEGORIES:Events
ATTACH;FMTTYPE=image/jpeg:https://breakrockbrewing.com/wp-content/uploads/sites/21/2025/01/Website-3.jpg
END:VEVENT
BEGIN:VEVENT
DTSTART;TZID=America/New_York:20240428T104500
DTEND;TZID=America/New_York:20240428T114500
DTSTAMP:20260424T230244
CREATED:20240103T182147Z
LAST-MODIFIED:20240409T153646Z
UID:10001313-1714301100-1714304700@breakrockbrewing.com
SUMMARY:Burpees & Brews with Proving Ground Studios
DESCRIPTION:Register Here! \nJoin the team from Proving Ground Studios for a pop-up “Burpees & Brews” class in the taproom and hang around after for a well-earned beverage. \nClass Description\nStrength plus Cardio – the winning combination for maximum calorie burn\, elevating your heart rate while building strong muscle. In our 360 class\, experience the entire studio while moving around in teams of 2 or 4 through stations that include box jumps\, TRX\, sled pushes on the turf and so much more. \nQuestions? Contact Proving Ground at: 6178342917 or erin@provinggroundstudio.com \nRegister Here!
URL:https://breakrockbrewing.com/event/burpees-brews-with-proving-ground-studios/
LOCATION:Break Rock Brewing\, 534 Victory Road\, Quincy\, MA\, 02171\, United States
CATEGORIES:Class / Workshop
ATTACH;FMTTYPE=image/png:https://breakrockbrewing.com/wp-content/uploads/sites/21/2024/01/ProvingGroundStudio.png
END:VEVENT
BEGIN:VEVENT
DTSTART;TZID=America/New_York:20240426T180000
DTEND;TZID=America/New_York:20240426T210000
DTSTAMP:20260424T230244
CREATED:20240425T001351Z
LAST-MODIFIED:20240425T001351Z
UID:10001984-1714154400-1714165200@breakrockbrewing.com
SUMMARY:Free Live Music: Crit Harmon
DESCRIPTION:https://www.critharmon.com/ \nCrit Harmon is a songwriter\, music producer and performer. His production credits include Martin Sexton\, Susan Werner\, Lori McKenna\, Mary Gauthier and Meg Hutchinson. In 2007 he was named “Best Producer” at the Boston Music Awards. His songs have appeared in over 100 films and TV shows and have been recorded by artists worldwide including Tim McGraw\, Blake Shelton\, and Bobby Bare. \nCrit currently works from his home studio in Marshfield\, MA and performs locally on the Boston’s South Shore. \nAwards\n2013 Nashville Songwriters Association-Grand Prize Lyric Winner\n2011 International Songwriting Competition-1st Place Lyrics Only*\n2011 Great American Song Contest-Ist Place Americana Category*\n2011 USA Songwriting competition-1st Place in Lyrics Category*\n*cowriter \nTV Credits\nBlue Bloods Agent Carter\, Chicago PD\, NCIS\, NCIS New Orleans\, Justified\, Rescue Me\, ER\, MTV Real World\, Melrose Place\, The Division \, Touched By an Angel\, Young and the Restless\, All My Children\, the Line of Duty\, Noriega\, Sweet Temptation \nFilm Credits\nChuck\, Finding Mabel\, 37: A Final Promise\, New In Town\, Finding Amanda\, Grumpy Old Men\, Daylight\, Odd Couple 2
URL:https://breakrockbrewing.com/event/free-live-music-crit-harmon/
LOCATION:Break Rock Brewing\, 534 Victory Road\, Quincy\, MA\, 02171\, United States
CATEGORIES:Live Music
ATTACH;FMTTYPE=image/jpeg:https://breakrockbrewing.com/wp-content/uploads/sites/21/2024/04/Crit-Harmon.jpg
END:VEVENT
BEGIN:VEVENT
DTSTART;TZID=America/New_York:20240426T160000
DTEND;TZID=America/New_York:20240426T213000
DTSTAMP:20260424T230244
CREATED:20240426T165753Z
LAST-MODIFIED:20240426T165753Z
UID:10001985-1714147200-1714167000@breakrockbrewing.com
SUMMARY:Beer Release: Taco Tuesday Mexican Lager
DESCRIPTION:TACO TUESDAY MEXICAN LAGER – 4.8% \nReleasing Friday 4/26 on draft and in cans to go in the taproom! \nEasy drinking. Crisp and clean. Pours deep golden. Gentle sweetness up front followed by citrus and lime notes from NZ Hops – Motueka and Wakatu. No lime wedge is needed!
URL:https://breakrockbrewing.com/event/beer-release-taco-tuesday-mexican-lager/
LOCATION:Break Rock Brewing\, 534 Victory Road\, Quincy\, MA\, 02171\, United States
CATEGORIES:Events
ATTACH;FMTTYPE=image/jpeg:https://breakrockbrewing.com/wp-content/uploads/sites/21/2024/04/IMG_6105-1-scaled.jpg
END:VEVENT
BEGIN:VEVENT
DTSTART;TZID=America/New_York:20240426T140000
DTEND;TZID=America/New_York:20240426T213000
DTSTAMP:20260424T230244
CREATED:20240102T201649Z
LAST-MODIFIED:20260120T190211Z
UID:10004148-1714140000-1714167000@breakrockbrewing.com
SUMMARY:SMALL BATCH THURSDAY
DESCRIPTION:Thursday is when we drop our new or special releases on draft in the taproom only. Check out of social media to see what is new this week!
URL:https://breakrockbrewing.com/event/small-batch-thursday/2024-04-26/
LOCATION:Break Rock Brewing\, 534 Victory Road\, Quincy\, MA\, 02171\, United States
CATEGORIES:Events
ATTACH;FMTTYPE=image/jpeg:https://breakrockbrewing.com/wp-content/uploads/sites/21/2026/01/Website-Templates-20.jpg
END:VEVENT
BEGIN:VEVENT
DTSTART;TZID=America/New_York:20240424T190000
DTEND;TZID=America/New_York:20240424T200000
DTSTAMP:20260424T230244
CREATED:20231128T173228Z
LAST-MODIFIED:20250212T173021Z
UID:10002478-1713985200-1713988800@breakrockbrewing.com
SUMMARY:Free Team Trivia: Rounds 7pm & 8pm
DESCRIPTION:Join us for FREE Sporcle Trivia Night\, every Wednesday. New rounds/games at 7pm & 8pm. Grab a few friends\, and a beer\, test your knowledge – and win gift cards for a future taproom visit! \nTrivia is typical “General Knowledge”. However\, we do have some themed nights planned. See below! \nTHEMED TRIVIA\n\n10/2 – The Simpsons\n11/6 – Friends\n12/4 –  1980s-2010s Pop Culture
URL:https://breakrockbrewing.com/event/free-trivia-every-wednesday/2024-04-24/
LOCATION:Break Rock Brewing\, 534 Victory Road\, Quincy\, MA\, 02171\, United States
CATEGORIES:Events
ATTACH;FMTTYPE=image/jpeg:https://breakrockbrewing.com/wp-content/uploads/sites/21/2025/01/Website-3.jpg
END:VEVENT
BEGIN:VEVENT
DTSTART;TZID=America/New_York:20240421T130000
DTEND;TZID=America/New_York:20240421T180000
DTSTAMP:20260424T230244
CREATED:20240103T051511Z
LAST-MODIFIED:20241018T152011Z
UID:10001916-1713704400-1713722400@breakrockbrewing.com
SUMMARY:Thiccy’s Taco Club
DESCRIPTION:Thiccy’s is always a hit in the taproom. Come grab some…you won’t be disappointed! \nhttps://www.instagram.com/thiccysclub/?hl=en
URL:https://breakrockbrewing.com/event/thiccys-taco-club/2024-04-21/
LOCATION:Break Rock Brewing\, 534 Victory Road\, Quincy\, MA\, 02171\, United States
CATEGORIES:Food Pop Up
ATTACH;FMTTYPE=image/jpeg:https://breakrockbrewing.com/wp-content/uploads/sites/21/2023/10/Thiccys.jpg
END:VEVENT
BEGIN:VEVENT
DTSTART;TZID=America/New_York:20240421T130000
DTEND;TZID=America/New_York:20240421T160000
DTSTAMP:20260424T230244
CREATED:20240213T155955Z
LAST-MODIFIED:20240213T155955Z
UID:10001919-1713704400-1713715200@breakrockbrewing.com
SUMMARY:Earth Day @ BRB: Whale and Dolphin Conservation Informational Pop Up
DESCRIPTION:The Whale & Dolphin Conservation will be on hand for Earth Day. They will be able to speak with guests about who the WDC is\, what they do\, and why they do it! \nThe Whale and Dolphin Conservation’s Marine Animal Rescue and Response (WDC MARR). WDC is the leading global NGO dedicated to the conservation whales and dolphins. The Marine Animal Rescue and Response team responds to stranded marine mammals (seals\, dolphins\, and whales) from Plymouth to Weymouth. Although Whale and Dolphin Conservation itself is not new\, our Marine Animal Rescue and Response team is relatively new as we just started in 2021. WDC MARR is working to spread the word about our work throughout our stranding region. \nLearn more about the Whale & Dolphin Conservation here.
URL:https://breakrockbrewing.com/event/earth-day-brb-whale-and-dolphin-conservation-informational-pop-up/
LOCATION:Break Rock Brewing\, 534 Victory Road\, Quincy\, MA\, 02171\, United States
CATEGORIES:Events
ATTACH;FMTTYPE=image/jpeg:https://breakrockbrewing.com/wp-content/uploads/sites/21/2024/02/IMG_5183.jpg
END:VEVENT
BEGIN:VEVENT
DTSTART;TZID=America/New_York:20240419T140000
DTEND;TZID=America/New_York:20240419T213000
DTSTAMP:20260424T230244
CREATED:20240102T201649Z
LAST-MODIFIED:20260120T190211Z
UID:10004147-1713535200-1713562200@breakrockbrewing.com
SUMMARY:SMALL BATCH THURSDAY
DESCRIPTION:Thursday is when we drop our new or special releases on draft in the taproom only. Check out of social media to see what is new this week!
URL:https://breakrockbrewing.com/event/small-batch-thursday/2024-04-19/
LOCATION:Break Rock Brewing\, 534 Victory Road\, Quincy\, MA\, 02171\, United States
CATEGORIES:Events
ATTACH;FMTTYPE=image/jpeg:https://breakrockbrewing.com/wp-content/uploads/sites/21/2026/01/Website-Templates-20.jpg
END:VEVENT
BEGIN:VEVENT
DTSTART;TZID=America/New_York:20240417T190000
DTEND;TZID=America/New_York:20240417T200000
DTSTAMP:20260424T230244
CREATED:20231128T173228Z
LAST-MODIFIED:20250212T173021Z
UID:10002477-1713380400-1713384000@breakrockbrewing.com
SUMMARY:Free Team Trivia: Rounds 7pm & 8pm
DESCRIPTION:Join us for FREE Sporcle Trivia Night\, every Wednesday. New rounds/games at 7pm & 8pm. Grab a few friends\, and a beer\, test your knowledge – and win gift cards for a future taproom visit! \nTrivia is typical “General Knowledge”. However\, we do have some themed nights planned. See below! \nTHEMED TRIVIA\n\n10/2 – The Simpsons\n11/6 – Friends\n12/4 –  1980s-2010s Pop Culture
URL:https://breakrockbrewing.com/event/free-trivia-every-wednesday/2024-04-17/
LOCATION:Break Rock Brewing\, 534 Victory Road\, Quincy\, MA\, 02171\, United States
CATEGORIES:Events
ATTACH;FMTTYPE=image/jpeg:https://breakrockbrewing.com/wp-content/uploads/sites/21/2025/01/Website-3.jpg
END:VEVENT
BEGIN:VEVENT
DTSTART;TZID=America/New_York:20240413T140000
DTEND;TZID=America/New_York:20240413T170000
DTSTAMP:20260424T230244
CREATED:20240213T033342Z
LAST-MODIFIED:20240917T210957Z
UID:10001971-1713016800-1713027600@breakrockbrewing.com
SUMMARY:Free Caricatures w/ Artist Dennis Burke
DESCRIPTION:Artist Dennis Burke will be on hand in the taproom offering free caricatures. Come view yourself through a different and fun lens! \nDennis has been “Entertaining the New England Area for 15+ years with caricatures\, illustrations\, and bad jokes!” You can find him at @designsbydennis on instagram \n  \n 
URL:https://breakrockbrewing.com/event/free-caricatures-w-artist-dennis-burke/2024-04-13/
LOCATION:Break Rock Brewing\, 534 Victory Road\, Quincy\, MA\, 02171\, United States
CATEGORIES:Events
ATTACH;FMTTYPE=image/jpeg:https://breakrockbrewing.com/wp-content/uploads/sites/21/2024/02/Designs-By-Dennis-Overview.jpg
END:VEVENT
BEGIN:VEVENT
DTSTART;TZID=America/New_York:20240413T130000
DTEND;TZID=America/New_York:20240413T180000
DTSTAMP:20260424T230244
CREATED:20240103T044211Z
LAST-MODIFIED:20260217T184027Z
UID:10001246-1713013200-1713031200@breakrockbrewing.com
SUMMARY:Food Pop-Up: Hott Smoke BBQ
DESCRIPTION:Quincy’s Hott Smoke BBQ will be in the house slinging their grub and keeping you fed!
URL:https://breakrockbrewing.com/event/hott-smoke-bbq-pop-up/2024-04-13/
LOCATION:Break Rock Brewing\, 534 Victory Road\, Quincy\, MA\, 02171\, United States
CATEGORIES:Food Pop Up
ATTACH;FMTTYPE=image/jpeg:https://breakrockbrewing.com/wp-content/uploads/sites/21/2025/01/WERE-HIRING-23.jpg
END:VEVENT
BEGIN:VEVENT
DTSTART;TZID=America/New_York:20240412T180000
DTEND;TZID=America/New_York:20240412T210000
DTSTAMP:20260424T230244
CREATED:20240314T025837Z
LAST-MODIFIED:20240321T023941Z
UID:10001957-1712944800-1712955600@breakrockbrewing.com
SUMMARY:QIE North Quincy Fundraiser Night
DESCRIPTION:Join Quincy Is Everything at Break Rock Brewing on Friday\, April 12 from 6-9 to kick the last keg of North Quincy Copper Ale! Wanderlust Food Truck will be on hand for food\, and Quincy’s own Tokyo Tramps will play live! A portion of proceeds from the evening to benefit the Quincy City Club. \n 
URL:https://breakrockbrewing.com/event/qie-north-quincy-fundraiser-night/
LOCATION:Break Rock Brewing\, 534 Victory Road\, Quincy\, MA\, 02171\, United States
CATEGORIES:Events
ATTACH;FMTTYPE=image/jpeg:https://breakrockbrewing.com/wp-content/uploads/sites/21/2024/03/North-Quincy-2-1.jpg
END:VEVENT
BEGIN:VEVENT
DTSTART;TZID=America/New_York:20240412T180000
DTEND;TZID=America/New_York:20240412T210000
DTSTAMP:20260424T230244
CREATED:20240213T042905Z
LAST-MODIFIED:20240213T042905Z
UID:10001903-1712944800-1712955600@breakrockbrewing.com
SUMMARY:Food Pop Up: Wanderlust Food Truck
DESCRIPTION:Globally Inspired street food! Wanderlust will pop up in the taproom slinging their tasty bites! You can learn more about them here: https://www.instagram.com/wanderlustglobalfood
URL:https://breakrockbrewing.com/event/food-pop-up-wanderlust-food-truck/2024-04-12/
LOCATION:Break Rock Brewing\, 534 Victory Road\, Quincy\, MA\, 02171\, United States
CATEGORIES:Food Pop Up
ATTACH;FMTTYPE=image/png:https://breakrockbrewing.com/wp-content/uploads/sites/21/2024/02/Wanderlust.png
END:VEVENT
BEGIN:VEVENT
DTSTART;TZID=America/New_York:20240412T180000
DTEND;TZID=America/New_York:20240412T210000
DTSTAMP:20260424T230244
CREATED:20231227T035924Z
LAST-MODIFIED:20250131T152424Z
UID:10000946-1712944800-1712955600@breakrockbrewing.com
SUMMARY:Live Music - Tokyo Tramps
DESCRIPTION:
URL:https://breakrockbrewing.com/event/tokyo-tramps-3/2024-04-12/
CATEGORIES:Live Music
ATTACH;FMTTYPE=image/jpeg:https://breakrockbrewing.com/wp-content/uploads/sites/21/2025/01/WERE-HIRING-7.jpg
END:VEVENT
BEGIN:VEVENT
DTSTART;TZID=America/New_York:20240412T140000
DTEND;TZID=America/New_York:20240412T213000
DTSTAMP:20260424T230244
CREATED:20240102T201649Z
LAST-MODIFIED:20260120T190211Z
UID:10004146-1712930400-1712957400@breakrockbrewing.com
SUMMARY:SMALL BATCH THURSDAY
DESCRIPTION:Thursday is when we drop our new or special releases on draft in the taproom only. Check out of social media to see what is new this week!
URL:https://breakrockbrewing.com/event/small-batch-thursday/2024-04-12/
LOCATION:Break Rock Brewing\, 534 Victory Road\, Quincy\, MA\, 02171\, United States
CATEGORIES:Events
ATTACH;FMTTYPE=image/jpeg:https://breakrockbrewing.com/wp-content/uploads/sites/21/2026/01/Website-Templates-20.jpg
END:VEVENT
BEGIN:VEVENT
DTSTART;TZID=America/New_York:20240410T190000
DTEND;TZID=America/New_York:20240410T200000
DTSTAMP:20260424T230244
CREATED:20231128T173228Z
LAST-MODIFIED:20250212T173021Z
UID:10002476-1712775600-1712779200@breakrockbrewing.com
SUMMARY:Free Team Trivia: Rounds 7pm & 8pm
DESCRIPTION:Join us for FREE Sporcle Trivia Night\, every Wednesday. New rounds/games at 7pm & 8pm. Grab a few friends\, and a beer\, test your knowledge – and win gift cards for a future taproom visit! \nTrivia is typical “General Knowledge”. However\, we do have some themed nights planned. See below! \nTHEMED TRIVIA\n\n10/2 – The Simpsons\n11/6 – Friends\n12/4 –  1980s-2010s Pop Culture
URL:https://breakrockbrewing.com/event/free-trivia-every-wednesday/2024-04-10/
LOCATION:Break Rock Brewing\, 534 Victory Road\, Quincy\, MA\, 02171\, United States
CATEGORIES:Events
ATTACH;FMTTYPE=image/jpeg:https://breakrockbrewing.com/wp-content/uploads/sites/21/2025/01/Website-3.jpg
END:VEVENT
END:VCALENDAR