BEGIN:VCALENDAR
VERSION:2.0
PRODID:-//Break Rock Brewing - ECPv6.15.20//NONSGML v1.0//EN
CALSCALE:GREGORIAN
METHOD:PUBLISH
X-WR-CALNAME:Break Rock Brewing
X-ORIGINAL-URL:https://breakrockbrewing.com
X-WR-CALDESC:Events for Break Rock Brewing
REFRESH-INTERVAL;VALUE=DURATION:PT1H
X-Robots-Tag:noindex
X-PUBLISHED-TTL:PT1H
BEGIN:VTIMEZONE
TZID:America/New_York
BEGIN:DAYLIGHT
TZOFFSETFROM:-0500
TZOFFSETTO:-0400
TZNAME:EDT
DTSTART:20220313T070000
END:DAYLIGHT
BEGIN:STANDARD
TZOFFSETFROM:-0400
TZOFFSETTO:-0500
TZNAME:EST
DTSTART:20221106T060000
END:STANDARD
BEGIN:DAYLIGHT
TZOFFSETFROM:-0500
TZOFFSETTO:-0400
TZNAME:EDT
DTSTART:20230312T070000
END:DAYLIGHT
BEGIN:STANDARD
TZOFFSETFROM:-0400
TZOFFSETTO:-0500
TZNAME:EST
DTSTART:20231105T060000
END:STANDARD
BEGIN:DAYLIGHT
TZOFFSETFROM:-0500
TZOFFSETTO:-0400
TZNAME:EDT
DTSTART:20240310T070000
END:DAYLIGHT
BEGIN:STANDARD
TZOFFSETFROM:-0400
TZOFFSETTO:-0500
TZNAME:EST
DTSTART:20241103T060000
END:STANDARD
BEGIN:DAYLIGHT
TZOFFSETFROM:-0500
TZOFFSETTO:-0400
TZNAME:EDT
DTSTART:20250309T070000
END:DAYLIGHT
BEGIN:STANDARD
TZOFFSETFROM:-0400
TZOFFSETTO:-0500
TZNAME:EST
DTSTART:20251102T060000
END:STANDARD
END:VTIMEZONE
BEGIN:VEVENT
DTSTART;TZID=America/New_York:20240120T140000
DTEND;TZID=America/New_York:20240120T170000
DTSTAMP:20260425T120603
CREATED:20231218T022824Z
LAST-MODIFIED:20251017T161453Z
UID:10000892-1705759200-1705770000@breakrockbrewing.com
SUMMARY:Live Music: Nico Rivers
DESCRIPTION:
URL:https://breakrockbrewing.com/event/live-music-nico-rivers/2024-01-20/
LOCATION:Break Rock Brewing\, 534 Victory Road\, Quincy\, MA\, 02171\, United States
CATEGORIES:Live Music
ATTACH;FMTTYPE=image/jpeg:https://breakrockbrewing.com/wp-content/uploads/sites/21/2025/01/WERE-HIRING-17.jpg
END:VEVENT
BEGIN:VEVENT
DTSTART;TZID=America/New_York:20240119T140000
DTEND;TZID=America/New_York:20240119T213000
DTSTAMP:20260425T120603
CREATED:20240102T201649Z
LAST-MODIFIED:20260120T190211Z
UID:10004134-1705672800-1705699800@breakrockbrewing.com
SUMMARY:SMALL BATCH THURSDAY
DESCRIPTION:Thursday is when we drop our new or special releases on draft in the taproom only. Check out of social media to see what is new this week!
URL:https://breakrockbrewing.com/event/small-batch-thursday/2024-01-19/
LOCATION:Break Rock Brewing\, 534 Victory Road\, Quincy\, MA\, 02171\, United States
CATEGORIES:Events
ATTACH;FMTTYPE=image/jpeg:https://breakrockbrewing.com/wp-content/uploads/sites/21/2026/01/Website-Templates-20.jpg
END:VEVENT
BEGIN:VEVENT
DTSTART;TZID=America/New_York:20240117T190000
DTEND;TZID=America/New_York:20240117T200000
DTSTAMP:20260425T120603
CREATED:20231128T173228Z
LAST-MODIFIED:20250212T173021Z
UID:10002464-1705518000-1705521600@breakrockbrewing.com
SUMMARY:Free Team Trivia: Rounds 7pm & 8pm
DESCRIPTION:Join us for FREE Sporcle Trivia Night\, every Wednesday. New rounds/games at 7pm & 8pm. Grab a few friends\, and a beer\, test your knowledge – and win gift cards for a future taproom visit! \nTrivia is typical “General Knowledge”. However\, we do have some themed nights planned. See below! \nTHEMED TRIVIA\n\n10/2 – The Simpsons\n11/6 – Friends\n12/4 –  1980s-2010s Pop Culture
URL:https://breakrockbrewing.com/event/free-trivia-every-wednesday/2024-01-17/
LOCATION:Break Rock Brewing\, 534 Victory Road\, Quincy\, MA\, 02171\, United States
CATEGORIES:Events
ATTACH;FMTTYPE=image/jpeg:https://breakrockbrewing.com/wp-content/uploads/sites/21/2025/01/Website-3.jpg
END:VEVENT
BEGIN:VEVENT
DTSTART;TZID=America/New_York:20240113T130000
DTEND;TZID=America/New_York:20240113T180000
DTSTAMP:20260425T120603
CREATED:20240103T044211Z
LAST-MODIFIED:20260217T184027Z
UID:10001244-1705150800-1705168800@breakrockbrewing.com
SUMMARY:Food Pop-Up: Hott Smoke BBQ
DESCRIPTION:Quincy’s Hott Smoke BBQ will be in the house slinging their grub and keeping you fed!
URL:https://breakrockbrewing.com/event/hott-smoke-bbq-pop-up/2024-01-13/
LOCATION:Break Rock Brewing\, 534 Victory Road\, Quincy\, MA\, 02171\, United States
CATEGORIES:Food Pop Up
ATTACH;FMTTYPE=image/jpeg:https://breakrockbrewing.com/wp-content/uploads/sites/21/2025/01/WERE-HIRING-23.jpg
END:VEVENT
BEGIN:VEVENT
DTSTART;TZID=America/New_York:20231231T183000
DTEND;TZID=America/New_York:20231231T213000
DTSTAMP:20260425T120603
CREATED:20231121T203807Z
LAST-MODIFIED:20260227T204620Z
UID:10002460-1704047400-1704058200@breakrockbrewing.com
SUMMARY:Live Music: Saltwater Sons
DESCRIPTION:
URL:https://breakrockbrewing.com/event/saltwater-sons/2023-12-31/
LOCATION:Break Rock Brewing\, 534 Victory Road\, Quincy\, MA\, 02171\, United States
CATEGORIES:Live Music
ATTACH;FMTTYPE=image/jpeg:https://breakrockbrewing.com/wp-content/uploads/sites/21/2025/01/WERE-HIRING-10.jpg
END:VEVENT
BEGIN:VEVENT
DTSTART;TZID=America/New_York:20231229T120000
DTEND;TZID=America/New_York:20231229T223000
DTSTAMP:20260425T120603
CREATED:20230831T151659Z
LAST-MODIFIED:20230831T151659Z
UID:10000556-1703851200-1703889000@breakrockbrewing.com
SUMMARY:Fruited Friday
DESCRIPTION:Small batch fruited beer every Friday!
URL:https://breakrockbrewing.com/event/fruited-friday/2023-12-29/
LOCATION:Break Rock Brewing\, 534 Victory Road\, Quincy\, MA\, 02171\, United States
ATTACH;FMTTYPE=image/jpeg:https://breakrockbrewing.com/wp-content/uploads/sites/21/2023/08/fruited-beer-break-rock.jpg
END:VEVENT
BEGIN:VEVENT
DTSTART;TZID=America/New_York:20231222T120000
DTEND;TZID=America/New_York:20231222T223000
DTSTAMP:20260425T120603
CREATED:20230831T151659Z
LAST-MODIFIED:20230831T151659Z
UID:10000555-1703246400-1703284200@breakrockbrewing.com
SUMMARY:Fruited Friday
DESCRIPTION:Small batch fruited beer every Friday!
URL:https://breakrockbrewing.com/event/fruited-friday/2023-12-22/
LOCATION:Break Rock Brewing\, 534 Victory Road\, Quincy\, MA\, 02171\, United States
ATTACH;FMTTYPE=image/jpeg:https://breakrockbrewing.com/wp-content/uploads/sites/21/2023/08/fruited-beer-break-rock.jpg
END:VEVENT
BEGIN:VEVENT
DTSTART;TZID=America/New_York:20231215T120000
DTEND;TZID=America/New_York:20231215T223000
DTSTAMP:20260425T120603
CREATED:20230831T151659Z
LAST-MODIFIED:20230831T151659Z
UID:10000554-1702641600-1702679400@breakrockbrewing.com
SUMMARY:Fruited Friday
DESCRIPTION:Small batch fruited beer every Friday!
URL:https://breakrockbrewing.com/event/fruited-friday/2023-12-15/
LOCATION:Break Rock Brewing\, 534 Victory Road\, Quincy\, MA\, 02171\, United States
ATTACH;FMTTYPE=image/jpeg:https://breakrockbrewing.com/wp-content/uploads/sites/21/2023/08/fruited-beer-break-rock.jpg
END:VEVENT
BEGIN:VEVENT
DTSTART;TZID=America/New_York:20231208T120000
DTEND;TZID=America/New_York:20231208T223000
DTSTAMP:20260425T120603
CREATED:20230831T151659Z
LAST-MODIFIED:20230831T151659Z
UID:10000553-1702036800-1702074600@breakrockbrewing.com
SUMMARY:Fruited Friday
DESCRIPTION:Small batch fruited beer every Friday!
URL:https://breakrockbrewing.com/event/fruited-friday/2023-12-08/
LOCATION:Break Rock Brewing\, 534 Victory Road\, Quincy\, MA\, 02171\, United States
ATTACH;FMTTYPE=image/jpeg:https://breakrockbrewing.com/wp-content/uploads/sites/21/2023/08/fruited-beer-break-rock.jpg
END:VEVENT
BEGIN:VEVENT
DTSTART;TZID=America/New_York:20231201T120000
DTEND;TZID=America/New_York:20231201T223000
DTSTAMP:20260425T120603
CREATED:20230831T151659Z
LAST-MODIFIED:20230831T151659Z
UID:10000552-1701432000-1701469800@breakrockbrewing.com
SUMMARY:Fruited Friday
DESCRIPTION:Small batch fruited beer every Friday!
URL:https://breakrockbrewing.com/event/fruited-friday/2023-12-01/
LOCATION:Break Rock Brewing\, 534 Victory Road\, Quincy\, MA\, 02171\, United States
ATTACH;FMTTYPE=image/jpeg:https://breakrockbrewing.com/wp-content/uploads/sites/21/2023/08/fruited-beer-break-rock.jpg
END:VEVENT
BEGIN:VEVENT
DTSTART;TZID=America/New_York:20231124T120000
DTEND;TZID=America/New_York:20231124T223000
DTSTAMP:20260425T120603
CREATED:20230831T151659Z
LAST-MODIFIED:20230831T151659Z
UID:10000551-1700827200-1700865000@breakrockbrewing.com
SUMMARY:Fruited Friday
DESCRIPTION:Small batch fruited beer every Friday!
URL:https://breakrockbrewing.com/event/fruited-friday/2023-11-24/
LOCATION:Break Rock Brewing\, 534 Victory Road\, Quincy\, MA\, 02171\, United States
ATTACH;FMTTYPE=image/jpeg:https://breakrockbrewing.com/wp-content/uploads/sites/21/2023/08/fruited-beer-break-rock.jpg
END:VEVENT
BEGIN:VEVENT
DTSTART;TZID=America/New_York:20231117T120000
DTEND;TZID=America/New_York:20231117T223000
DTSTAMP:20260425T120603
CREATED:20230831T151659Z
LAST-MODIFIED:20230831T151659Z
UID:10000550-1700222400-1700260200@breakrockbrewing.com
SUMMARY:Fruited Friday
DESCRIPTION:Small batch fruited beer every Friday!
URL:https://breakrockbrewing.com/event/fruited-friday/2023-11-17/
LOCATION:Break Rock Brewing\, 534 Victory Road\, Quincy\, MA\, 02171\, United States
ATTACH;FMTTYPE=image/jpeg:https://breakrockbrewing.com/wp-content/uploads/sites/21/2023/08/fruited-beer-break-rock.jpg
END:VEVENT
BEGIN:VEVENT
DTSTART;TZID=America/New_York:20231110T120000
DTEND;TZID=America/New_York:20231110T223000
DTSTAMP:20260425T120603
CREATED:20230831T151659Z
LAST-MODIFIED:20230831T151659Z
UID:10000549-1699617600-1699655400@breakrockbrewing.com
SUMMARY:Fruited Friday
DESCRIPTION:Small batch fruited beer every Friday!
URL:https://breakrockbrewing.com/event/fruited-friday/2023-11-10/
LOCATION:Break Rock Brewing\, 534 Victory Road\, Quincy\, MA\, 02171\, United States
ATTACH;FMTTYPE=image/jpeg:https://breakrockbrewing.com/wp-content/uploads/sites/21/2023/08/fruited-beer-break-rock.jpg
END:VEVENT
BEGIN:VEVENT
DTSTART;TZID=America/New_York:20231103T120000
DTEND;TZID=America/New_York:20231103T223000
DTSTAMP:20260425T120603
CREATED:20230831T151659Z
LAST-MODIFIED:20230831T151659Z
UID:10000548-1699012800-1699050600@breakrockbrewing.com
SUMMARY:Fruited Friday
DESCRIPTION:Small batch fruited beer every Friday!
URL:https://breakrockbrewing.com/event/fruited-friday/2023-11-03/
LOCATION:Break Rock Brewing\, 534 Victory Road\, Quincy\, MA\, 02171\, United States
ATTACH;FMTTYPE=image/jpeg:https://breakrockbrewing.com/wp-content/uploads/sites/21/2023/08/fruited-beer-break-rock.jpg
END:VEVENT
BEGIN:VEVENT
DTSTART;TZID=America/New_York:20231027T120000
DTEND;TZID=America/New_York:20231027T223000
DTSTAMP:20260425T120603
CREATED:20230831T151659Z
LAST-MODIFIED:20230831T151659Z
UID:10000547-1698408000-1698445800@breakrockbrewing.com
SUMMARY:Fruited Friday
DESCRIPTION:Small batch fruited beer every Friday!
URL:https://breakrockbrewing.com/event/fruited-friday/2023-10-27/
LOCATION:Break Rock Brewing\, 534 Victory Road\, Quincy\, MA\, 02171\, United States
ATTACH;FMTTYPE=image/jpeg:https://breakrockbrewing.com/wp-content/uploads/sites/21/2023/08/fruited-beer-break-rock.jpg
END:VEVENT
BEGIN:VEVENT
DTSTART;TZID=America/New_York:20231020T120000
DTEND;TZID=America/New_York:20231020T223000
DTSTAMP:20260425T120603
CREATED:20230831T151659Z
LAST-MODIFIED:20230831T151659Z
UID:10000546-1697803200-1697841000@breakrockbrewing.com
SUMMARY:Fruited Friday
DESCRIPTION:Small batch fruited beer every Friday!
URL:https://breakrockbrewing.com/event/fruited-friday/2023-10-20/
LOCATION:Break Rock Brewing\, 534 Victory Road\, Quincy\, MA\, 02171\, United States
ATTACH;FMTTYPE=image/jpeg:https://breakrockbrewing.com/wp-content/uploads/sites/21/2023/08/fruited-beer-break-rock.jpg
END:VEVENT
BEGIN:VEVENT
DTSTART;TZID=America/New_York:20231013T120000
DTEND;TZID=America/New_York:20231013T223000
DTSTAMP:20260425T120603
CREATED:20230831T151659Z
LAST-MODIFIED:20230831T151659Z
UID:10000545-1697198400-1697236200@breakrockbrewing.com
SUMMARY:Fruited Friday
DESCRIPTION:Small batch fruited beer every Friday!
URL:https://breakrockbrewing.com/event/fruited-friday/2023-10-13/
LOCATION:Break Rock Brewing\, 534 Victory Road\, Quincy\, MA\, 02171\, United States
ATTACH;FMTTYPE=image/jpeg:https://breakrockbrewing.com/wp-content/uploads/sites/21/2023/08/fruited-beer-break-rock.jpg
END:VEVENT
BEGIN:VEVENT
DTSTART;TZID=America/New_York:20231006T120000
DTEND;TZID=America/New_York:20231006T223000
DTSTAMP:20260425T120603
CREATED:20230831T151659Z
LAST-MODIFIED:20230831T151659Z
UID:10000544-1696593600-1696631400@breakrockbrewing.com
SUMMARY:Fruited Friday
DESCRIPTION:Small batch fruited beer every Friday!
URL:https://breakrockbrewing.com/event/fruited-friday/2023-10-06/
LOCATION:Break Rock Brewing\, 534 Victory Road\, Quincy\, MA\, 02171\, United States
ATTACH;FMTTYPE=image/jpeg:https://breakrockbrewing.com/wp-content/uploads/sites/21/2023/08/fruited-beer-break-rock.jpg
END:VEVENT
BEGIN:VEVENT
DTSTART;TZID=America/New_York:20230929T120000
DTEND;TZID=America/New_York:20230929T223000
DTSTAMP:20260425T120603
CREATED:20230831T151659Z
LAST-MODIFIED:20230831T151659Z
UID:10000543-1695988800-1696026600@breakrockbrewing.com
SUMMARY:Fruited Friday
DESCRIPTION:Small batch fruited beer every Friday!
URL:https://breakrockbrewing.com/event/fruited-friday/2023-09-29/
LOCATION:Break Rock Brewing\, 534 Victory Road\, Quincy\, MA\, 02171\, United States
ATTACH;FMTTYPE=image/jpeg:https://breakrockbrewing.com/wp-content/uploads/sites/21/2023/08/fruited-beer-break-rock.jpg
END:VEVENT
BEGIN:VEVENT
DTSTART;TZID=America/New_York:20230922T120000
DTEND;TZID=America/New_York:20230922T223000
DTSTAMP:20260425T120603
CREATED:20230831T151659Z
LAST-MODIFIED:20230831T151659Z
UID:10000542-1695384000-1695421800@breakrockbrewing.com
SUMMARY:Fruited Friday
DESCRIPTION:Small batch fruited beer every Friday!
URL:https://breakrockbrewing.com/event/fruited-friday/2023-09-22/
LOCATION:Break Rock Brewing\, 534 Victory Road\, Quincy\, MA\, 02171\, United States
ATTACH;FMTTYPE=image/jpeg:https://breakrockbrewing.com/wp-content/uploads/sites/21/2023/08/fruited-beer-break-rock.jpg
END:VEVENT
BEGIN:VEVENT
DTSTART;TZID=America/New_York:20230915T120000
DTEND;TZID=America/New_York:20230915T223000
DTSTAMP:20260425T120603
CREATED:20230831T151659Z
LAST-MODIFIED:20230831T151659Z
UID:10000541-1694779200-1694817000@breakrockbrewing.com
SUMMARY:Fruited Friday
DESCRIPTION:Small batch fruited beer every Friday!
URL:https://breakrockbrewing.com/event/fruited-friday/2023-09-15/
LOCATION:Break Rock Brewing\, 534 Victory Road\, Quincy\, MA\, 02171\, United States
ATTACH;FMTTYPE=image/jpeg:https://breakrockbrewing.com/wp-content/uploads/sites/21/2023/08/fruited-beer-break-rock.jpg
END:VEVENT
BEGIN:VEVENT
DTSTART;TZID=America/New_York:20230908T120000
DTEND;TZID=America/New_York:20230908T223000
DTSTAMP:20260425T120603
CREATED:20230831T151659Z
LAST-MODIFIED:20230831T151659Z
UID:10000540-1694174400-1694212200@breakrockbrewing.com
SUMMARY:Fruited Friday
DESCRIPTION:Small batch fruited beer every Friday!
URL:https://breakrockbrewing.com/event/fruited-friday/2023-09-08/
LOCATION:Break Rock Brewing\, 534 Victory Road\, Quincy\, MA\, 02171\, United States
ATTACH;FMTTYPE=image/jpeg:https://breakrockbrewing.com/wp-content/uploads/sites/21/2023/08/fruited-beer-break-rock.jpg
END:VEVENT
BEGIN:VEVENT
DTSTART;TZID=America/New_York:20230906T190000
DTEND;TZID=America/New_York:20230906T210000
DTSTAMP:20260425T120603
CREATED:20230831T140857Z
LAST-MODIFIED:20231118T030300Z
UID:10000002-1694026800-1694034000@breakrockbrewing.com
SUMMARY:Trivia Night
DESCRIPTION:Join us for Sporcle Trivia Night\, every Wednesday 7-9 PM. Grab a few friends\, a beer\, and test your knowledge!
URL:https://breakrockbrewing.com/event/trivia-night/
LOCATION:Break Rock Brewing\, 534 Victory Road\, Quincy\, MA\, 02171\, United States
ATTACH;FMTTYPE=image/jpeg:https://breakrockbrewing.com/wp-content/uploads/sites/21/2023/08/trivia-night-1.jpg
END:VEVENT
BEGIN:VEVENT
DTSTART;TZID=America/New_York:20230901T120000
DTEND;TZID=America/New_York:20230901T223000
DTSTAMP:20260425T120603
CREATED:20230831T151659Z
LAST-MODIFIED:20230831T151659Z
UID:10000539-1693569600-1693607400@breakrockbrewing.com
SUMMARY:Fruited Friday
DESCRIPTION:Small batch fruited beer every Friday!
URL:https://breakrockbrewing.com/event/fruited-friday/2023-09-01/
LOCATION:Break Rock Brewing\, 534 Victory Road\, Quincy\, MA\, 02171\, United States
ATTACH;FMTTYPE=image/jpeg:https://breakrockbrewing.com/wp-content/uploads/sites/21/2023/08/fruited-beer-break-rock.jpg
END:VEVENT
BEGIN:VEVENT
DTSTART;TZID=America/New_York:20230825T120000
DTEND;TZID=America/New_York:20230825T223000
DTSTAMP:20260425T120603
CREATED:20230831T151659Z
LAST-MODIFIED:20230831T151659Z
UID:10000538-1692964800-1693002600@breakrockbrewing.com
SUMMARY:Fruited Friday
DESCRIPTION:Small batch fruited beer every Friday!
URL:https://breakrockbrewing.com/event/fruited-friday/2023-08-25/
LOCATION:Break Rock Brewing\, 534 Victory Road\, Quincy\, MA\, 02171\, United States
ATTACH;FMTTYPE=image/jpeg:https://breakrockbrewing.com/wp-content/uploads/sites/21/2023/08/fruited-beer-break-rock.jpg
END:VEVENT
BEGIN:VEVENT
DTSTART;TZID=America/New_York:20230818T120000
DTEND;TZID=America/New_York:20230818T223000
DTSTAMP:20260425T120603
CREATED:20230831T151659Z
LAST-MODIFIED:20230831T151659Z
UID:10000537-1692360000-1692397800@breakrockbrewing.com
SUMMARY:Fruited Friday
DESCRIPTION:Small batch fruited beer every Friday!
URL:https://breakrockbrewing.com/event/fruited-friday/2023-08-18/
LOCATION:Break Rock Brewing\, 534 Victory Road\, Quincy\, MA\, 02171\, United States
ATTACH;FMTTYPE=image/jpeg:https://breakrockbrewing.com/wp-content/uploads/sites/21/2023/08/fruited-beer-break-rock.jpg
END:VEVENT
BEGIN:VEVENT
DTSTART;TZID=America/New_York:20230811T120000
DTEND;TZID=America/New_York:20230811T223000
DTSTAMP:20260425T120603
CREATED:20230831T151659Z
LAST-MODIFIED:20230831T151659Z
UID:10000536-1691755200-1691793000@breakrockbrewing.com
SUMMARY:Fruited Friday
DESCRIPTION:Small batch fruited beer every Friday!
URL:https://breakrockbrewing.com/event/fruited-friday/2023-08-11/
LOCATION:Break Rock Brewing\, 534 Victory Road\, Quincy\, MA\, 02171\, United States
ATTACH;FMTTYPE=image/jpeg:https://breakrockbrewing.com/wp-content/uploads/sites/21/2023/08/fruited-beer-break-rock.jpg
END:VEVENT
BEGIN:VEVENT
DTSTART;TZID=America/New_York:20230804T120000
DTEND;TZID=America/New_York:20230804T223000
DTSTAMP:20260425T120603
CREATED:20230831T151659Z
LAST-MODIFIED:20230831T151659Z
UID:10000535-1691150400-1691188200@breakrockbrewing.com
SUMMARY:Fruited Friday
DESCRIPTION:Small batch fruited beer every Friday!
URL:https://breakrockbrewing.com/event/fruited-friday/2023-08-04/
LOCATION:Break Rock Brewing\, 534 Victory Road\, Quincy\, MA\, 02171\, United States
ATTACH;FMTTYPE=image/jpeg:https://breakrockbrewing.com/wp-content/uploads/sites/21/2023/08/fruited-beer-break-rock.jpg
END:VEVENT
END:VCALENDAR